BEGIN:VCALENDAR
VERSION:2.0
PRODID:-//Adelaide Hills Dementia Carers Social Support Group - ECPv6.15.20//NONSGML v1.0//EN
CALSCALE:GREGORIAN
METHOD:PUBLISH
X-WR-CALNAME:Adelaide Hills Dementia Carers Social Support Group
X-ORIGINAL-URL:https://adelaidehillsdementia.org
X-WR-CALDESC:Events for Adelaide Hills Dementia Carers Social Support Group
REFRESH-INTERVAL;VALUE=DURATION:PT1H
X-Robots-Tag:noindex
X-PUBLISHED-TTL:PT1H
BEGIN:VTIMEZONE
TZID:Australia/Adelaide
BEGIN:STANDARD
TZOFFSETFROM:+1030
TZOFFSETTO:+0930
TZNAME:ACST
DTSTART:20250405T163000
END:STANDARD
BEGIN:DAYLIGHT
TZOFFSETFROM:+0930
TZOFFSETTO:+1030
TZNAME:ACDT
DTSTART:20251004T163000
END:DAYLIGHT
BEGIN:STANDARD
TZOFFSETFROM:+1030
TZOFFSETTO:+0930
TZNAME:ACST
DTSTART:20260404T163000
END:STANDARD
BEGIN:DAYLIGHT
TZOFFSETFROM:+0930
TZOFFSETTO:+1030
TZNAME:ACDT
DTSTART:20261003T163000
END:DAYLIGHT
BEGIN:STANDARD
TZOFFSETFROM:+1030
TZOFFSETTO:+0930
TZNAME:ACST
DTSTART:20270403T163000
END:STANDARD
BEGIN:DAYLIGHT
TZOFFSETFROM:+0930
TZOFFSETTO:+1030
TZNAME:ACDT
DTSTART:20271002T163000
END:DAYLIGHT
END:VTIMEZONE
BEGIN:VEVENT
DTSTART;TZID=Australia/Adelaide:20260519T103000
DTEND;TZID=Australia/Adelaide:20260519T120000
DTSTAMP:20260420T212049
CREATED:20260420T020612Z
LAST-MODIFIED:20260420T020614Z
UID:10001053-1779186600-1779192000@adelaidehillsdementia.org
SUMMARY:Victor Harbor Dementia Caring Conversations
DESCRIPTION:
URL:https://adelaidehillsdementia.org/event/victor-harbor-dementia-caring-conversations/
LOCATION:Victor Harbor Library\, 1 Bay Rd\, Victor Harbor\, South Australia\, 5211\, Australia
ATTACH;FMTTYPE=image/jpeg:https://adelaidehillsdementia.org/wp-content/uploads/2025/12/Victor-coffee-1.jpg
ORGANIZER;CN="Deidre Henderson":MAILTO:hendersondw@outlook.com
GEO:-35.557206100731;138.61081958651
X-APPLE-STRUCTURED-LOCATION;VALUE=URI;X-ADDRESS=Victor Harbor Library 1 Bay Rd Victor Harbor South Australia 5211 Australia;X-APPLE-RADIUS=500;X-TITLE=1 Bay Rd:geo:138.61081958651,-35.557206100731
END:VEVENT
BEGIN:VEVENT
DTSTART;TZID=Australia/Adelaide:20260616T103000
DTEND;TZID=Australia/Adelaide:20260616T120000
DTSTAMP:20260420T212049
CREATED:20260420T020906Z
LAST-MODIFIED:20260420T020908Z
UID:10001054-1781605800-1781611200@adelaidehillsdementia.org
SUMMARY:Victor Harbor Dementia Caring Conversations
DESCRIPTION:
URL:https://adelaidehillsdementia.org/event/victor-harbor-dementia-caring-conversations-2/
LOCATION:Victor Harbor Library\, 1 Bay Rd\, Victor Harbor\, South Australia\, 5211\, Australia
ATTACH;FMTTYPE=image/jpeg:https://adelaidehillsdementia.org/wp-content/uploads/2025/12/Victor-coffee-1.jpg
ORGANIZER;CN="Deidre Henderson":MAILTO:hendersondw@outlook.com
GEO:-35.557206100731;138.61081958651
X-APPLE-STRUCTURED-LOCATION;VALUE=URI;X-ADDRESS=Victor Harbor Library 1 Bay Rd Victor Harbor South Australia 5211 Australia;X-APPLE-RADIUS=500;X-TITLE=1 Bay Rd:geo:138.61081958651,-35.557206100731
END:VEVENT
BEGIN:VEVENT
DTSTART;TZID=Australia/Adelaide:20260714T103000
DTEND;TZID=Australia/Adelaide:20260714T120000
DTSTAMP:20260420T212049
CREATED:20260420T021014Z
LAST-MODIFIED:20260420T021015Z
UID:10001055-1784025000-1784030400@adelaidehillsdementia.org
SUMMARY:Victor Harbor Dementia Caring Conversations
DESCRIPTION:
URL:https://adelaidehillsdementia.org/event/victor-harbor-dementia-caring-conversations-3/
LOCATION:Victor Harbor Library\, 1 Bay Rd\, Victor Harbor\, South Australia\, 5211\, Australia
ATTACH;FMTTYPE=image/jpeg:https://adelaidehillsdementia.org/wp-content/uploads/2025/12/Victor-coffee-1.jpg
ORGANIZER;CN="Deidre Henderson":MAILTO:hendersondw@outlook.com
GEO:-35.557206100731;138.61081958651
X-APPLE-STRUCTURED-LOCATION;VALUE=URI;X-ADDRESS=Victor Harbor Library 1 Bay Rd Victor Harbor South Australia 5211 Australia;X-APPLE-RADIUS=500;X-TITLE=1 Bay Rd:geo:138.61081958651,-35.557206100731
END:VEVENT
BEGIN:VEVENT
DTSTART;TZID=Australia/Adelaide:20260818T103000
DTEND;TZID=Australia/Adelaide:20260818T120000
DTSTAMP:20260420T212049
CREATED:20260420T021050Z
LAST-MODIFIED:20260420T021051Z
UID:10001056-1787049000-1787054400@adelaidehillsdementia.org
SUMMARY:Victor Harbor Dementia Caring Conversations
DESCRIPTION:
URL:https://adelaidehillsdementia.org/event/victor-harbor-dementia-caring-conversations-4/
LOCATION:Victor Harbor Library\, 1 Bay Rd\, Victor Harbor\, South Australia\, 5211\, Australia
ATTACH;FMTTYPE=image/jpeg:https://adelaidehillsdementia.org/wp-content/uploads/2025/12/Victor-coffee-1.jpg
ORGANIZER;CN="Deidre Henderson":MAILTO:hendersondw@outlook.com
GEO:-35.557206100731;138.61081958651
X-APPLE-STRUCTURED-LOCATION;VALUE=URI;X-ADDRESS=Victor Harbor Library 1 Bay Rd Victor Harbor South Australia 5211 Australia;X-APPLE-RADIUS=500;X-TITLE=1 Bay Rd:geo:138.61081958651,-35.557206100731
END:VEVENT
BEGIN:VEVENT
DTSTART;TZID=Australia/Adelaide:20260915T103000
DTEND;TZID=Australia/Adelaide:20260915T120000
DTSTAMP:20260420T212049
CREATED:20260420T021145Z
LAST-MODIFIED:20260420T021146Z
UID:10001057-1789468200-1789473600@adelaidehillsdementia.org
SUMMARY:Victor Harbor Dementia Caring Conversations
DESCRIPTION:
URL:https://adelaidehillsdementia.org/event/victor-harbor-dementia-caring-conversations-5/
LOCATION:Victor Harbor Library\, 1 Bay Rd\, Victor Harbor\, South Australia\, 5211\, Australia
ATTACH;FMTTYPE=image/jpeg:https://adelaidehillsdementia.org/wp-content/uploads/2025/12/Victor-coffee-1.jpg
ORGANIZER;CN="Deidre Henderson":MAILTO:hendersondw@outlook.com
GEO:-35.557206100731;138.61081958651
X-APPLE-STRUCTURED-LOCATION;VALUE=URI;X-ADDRESS=Victor Harbor Library 1 Bay Rd Victor Harbor South Australia 5211 Australia;X-APPLE-RADIUS=500;X-TITLE=1 Bay Rd:geo:138.61081958651,-35.557206100731
END:VEVENT
BEGIN:VEVENT
DTSTART;TZID=Australia/Adelaide:20261020T103000
DTEND;TZID=Australia/Adelaide:20261020T120000
DTSTAMP:20260420T212049
CREATED:20260420T021437Z
LAST-MODIFIED:20260420T021437Z
UID:10001059-1792492200-1792497600@adelaidehillsdementia.org
SUMMARY:Victor Harbor Dementia Caring Conversations
DESCRIPTION:
URL:https://adelaidehillsdementia.org/event/victor-harbor-dementia-caring-conversations-6/
LOCATION:Victor Harbor Library\, 1 Bay Rd\, Victor Harbor\, South Australia\, 5211\, Australia
ATTACH;FMTTYPE=image/jpeg:https://adelaidehillsdementia.org/wp-content/uploads/2025/12/Victor-coffee-1.jpg
ORGANIZER;CN="Deidre Henderson":MAILTO:hendersondw@outlook.com
GEO:-35.557206100731;138.61081958651
X-APPLE-STRUCTURED-LOCATION;VALUE=URI;X-ADDRESS=Victor Harbor Library 1 Bay Rd Victor Harbor South Australia 5211 Australia;X-APPLE-RADIUS=500;X-TITLE=1 Bay Rd:geo:138.61081958651,-35.557206100731
END:VEVENT
BEGIN:VEVENT
DTSTART;TZID=Australia/Adelaide:20261117T103000
DTEND;TZID=Australia/Adelaide:20261117T120000
DTSTAMP:20260420T212049
CREATED:20260420T021513Z
LAST-MODIFIED:20260420T021514Z
UID:10001060-1794911400-1794916800@adelaidehillsdementia.org
SUMMARY:Victor Harbor Dementia Caring Conversations
DESCRIPTION:
URL:https://adelaidehillsdementia.org/event/victor-harbor-dementia-caring-conversations-7/
LOCATION:Victor Harbor Library\, 1 Bay Rd\, Victor Harbor\, South Australia\, 5211\, Australia
ATTACH;FMTTYPE=image/jpeg:https://adelaidehillsdementia.org/wp-content/uploads/2025/12/Victor-coffee-1.jpg
ORGANIZER;CN="Deidre Henderson":MAILTO:hendersondw@outlook.com
GEO:-35.557206100731;138.61081958651
X-APPLE-STRUCTURED-LOCATION;VALUE=URI;X-ADDRESS=Victor Harbor Library 1 Bay Rd Victor Harbor South Australia 5211 Australia;X-APPLE-RADIUS=500;X-TITLE=1 Bay Rd:geo:138.61081958651,-35.557206100731
END:VEVENT
BEGIN:VEVENT
DTSTART;TZID=Australia/Adelaide:20261215T103000
DTEND;TZID=Australia/Adelaide:20261215T120000
DTSTAMP:20260420T212049
CREATED:20260420T021602Z
LAST-MODIFIED:20260420T021603Z
UID:10001061-1797330600-1797336000@adelaidehillsdementia.org
SUMMARY:Victor Harbor Dementia Caring Conversations
DESCRIPTION:
URL:https://adelaidehillsdementia.org/event/victor-harbor-dementia-caring-conversations-8/
LOCATION:Victor Harbor Library\, 1 Bay Rd\, Victor Harbor\, South Australia\, 5211\, Australia
ATTACH;FMTTYPE=image/jpeg:https://adelaidehillsdementia.org/wp-content/uploads/2025/12/Victor-coffee-1.jpg
ORGANIZER;CN="Deidre Henderson":MAILTO:hendersondw@outlook.com
GEO:-35.557206100731;138.61081958651
X-APPLE-STRUCTURED-LOCATION;VALUE=URI;X-ADDRESS=Victor Harbor Library 1 Bay Rd Victor Harbor South Australia 5211 Australia;X-APPLE-RADIUS=500;X-TITLE=1 Bay Rd:geo:138.61081958651,-35.557206100731
END:VEVENT
END:VCALENDAR