BEGIN:VCALENDAR
VERSION:2.0
PRODID:-//Adelaide Hills Dementia Carers Social Support Group - ECPv6.15.20//NONSGML v1.0//EN
CALSCALE:GREGORIAN
METHOD:PUBLISH
X-WR-CALNAME:Adelaide Hills Dementia Carers Social Support Group
X-ORIGINAL-URL:https://adelaidehillsdementia.org
X-WR-CALDESC:Events for Adelaide Hills Dementia Carers Social Support Group
REFRESH-INTERVAL;VALUE=DURATION:PT1H
X-Robots-Tag:noindex
X-PUBLISHED-TTL:PT1H
BEGIN:VTIMEZONE
TZID:Australia/Adelaide
BEGIN:STANDARD
TZOFFSETFROM:+1030
TZOFFSETTO:+0930
TZNAME:ACST
DTSTART:20250405T163000
END:STANDARD
BEGIN:DAYLIGHT
TZOFFSETFROM:+0930
TZOFFSETTO:+1030
TZNAME:ACDT
DTSTART:20251004T163000
END:DAYLIGHT
BEGIN:STANDARD
TZOFFSETFROM:+1030
TZOFFSETTO:+0930
TZNAME:ACST
DTSTART:20260404T163000
END:STANDARD
BEGIN:DAYLIGHT
TZOFFSETFROM:+0930
TZOFFSETTO:+1030
TZNAME:ACDT
DTSTART:20261003T163000
END:DAYLIGHT
BEGIN:STANDARD
TZOFFSETFROM:+1030
TZOFFSETTO:+0930
TZNAME:ACST
DTSTART:20270403T163000
END:STANDARD
BEGIN:DAYLIGHT
TZOFFSETFROM:+0930
TZOFFSETTO:+1030
TZNAME:ACDT
DTSTART:20271002T163000
END:DAYLIGHT
BEGIN:STANDARD
TZOFFSETFROM:+1030
TZOFFSETTO:+0930
TZNAME:ACST
DTSTART:20280401T163000
END:STANDARD
BEGIN:DAYLIGHT
TZOFFSETFROM:+0930
TZOFFSETTO:+1030
TZNAME:ACDT
DTSTART:20280930T163000
END:DAYLIGHT
END:VTIMEZONE
BEGIN:VEVENT
DTSTART;TZID=Australia/Adelaide:20260521T123000
DTEND;TZID=Australia/Adelaide:20260521T143000
DTSTAMP:20260425T011738
CREATED:20250307T033150Z
LAST-MODIFIED:20250904T042541Z
UID:10000827-1779366600-1779373800@adelaidehillsdementia.org
SUMMARY:Lunch - Venue to be announced
DESCRIPTION:
URL:https://adelaidehillsdementia.org/event/lunch-venue-to-be-announced-2/
LOCATION:To Be Announced\, Adelaide Hills\, South Australia\, Australia
ATTACH;FMTTYPE=image/webp:https://adelaidehillsdementia.org/wp-content/uploads/2025/09/Venue-TBA-web.webp
ORGANIZER;CN="Vern Marshall":MAILTO:vern.c.marshall@gmail.com
END:VEVENT
BEGIN:VEVENT
DTSTART;TZID=Australia/Adelaide:20260611T180000
DTEND;TZID=Australia/Adelaide:20260611T203000
DTSTAMP:20260425T011738
CREATED:20250321T014559Z
LAST-MODIFIED:20250904T042501Z
UID:10000842-1781200800-1781209800@adelaidehillsdementia.org
SUMMARY:Dinner - Venue to be announced
DESCRIPTION:
URL:https://adelaidehillsdementia.org/event/dinner-venue-to-be-announced-2/
LOCATION:To Be Announced\, Adelaide Hills\, South Australia\, Australia
ATTACH;FMTTYPE=image/webp:https://adelaidehillsdementia.org/wp-content/uploads/2025/09/Venue-TBA-web.webp
END:VEVENT
BEGIN:VEVENT
DTSTART;TZID=Australia/Adelaide:20260625T123000
DTEND;TZID=Australia/Adelaide:20260625T143000
DTSTAMP:20260425T011738
CREATED:20250307T033231Z
LAST-MODIFIED:20250904T042413Z
UID:10000828-1782390600-1782397800@adelaidehillsdementia.org
SUMMARY:Lunch - Venue to be announced
DESCRIPTION:
URL:https://adelaidehillsdementia.org/event/lunch-venue-to-be-announced-3/
LOCATION:To Be Announced\, Adelaide Hills\, South Australia\, Australia
ATTACH;FMTTYPE=image/webp:https://adelaidehillsdementia.org/wp-content/uploads/2025/09/Venue-TBA-web.webp
ORGANIZER;CN="Vern Marshall":MAILTO:vern.c.marshall@gmail.com
END:VEVENT
BEGIN:VEVENT
DTSTART;TZID=Australia/Adelaide:20260709T180000
DTEND;TZID=Australia/Adelaide:20260709T203000
DTSTAMP:20260425T011738
CREATED:20250618T220808Z
LAST-MODIFIED:20250904T042329Z
UID:10000865-1783620000-1783629000@adelaidehillsdementia.org
SUMMARY:Dinner - Venue to be announced
DESCRIPTION:
URL:https://adelaidehillsdementia.org/event/dinner-venue-to-be-announced-12/
LOCATION:To Be Announced\, Adelaide Hills\, South Australia\, Australia
ATTACH;FMTTYPE=image/webp:https://adelaidehillsdementia.org/wp-content/uploads/2025/09/Venue-TBA-web.webp
END:VEVENT
BEGIN:VEVENT
DTSTART;TZID=Australia/Adelaide:20260723T123000
DTEND;TZID=Australia/Adelaide:20260723T143000
DTSTAMP:20260425T011738
CREATED:20250703T114228Z
LAST-MODIFIED:20250904T042249Z
UID:10000866-1784809800-1784817000@adelaidehillsdementia.org
SUMMARY:Lunch - Venue to be announced
DESCRIPTION:
URL:https://adelaidehillsdementia.org/event/lunch-venue-to-be-announced-12/
LOCATION:To Be Announced\, Adelaide Hills\, South Australia\, Australia
ATTACH;FMTTYPE=image/webp:https://adelaidehillsdementia.org/wp-content/uploads/2025/09/Venue-TBA-web.webp
ORGANIZER;CN="Vern Marshall":MAILTO:vern.c.marshall@gmail.com
END:VEVENT
BEGIN:VEVENT
DTSTART;TZID=Australia/Adelaide:20260813T180000
DTEND;TZID=Australia/Adelaide:20260813T203000
DTSTAMP:20260425T011738
CREATED:20250718T022232Z
LAST-MODIFIED:20250904T042156Z
UID:10000869-1786644000-1786653000@adelaidehillsdementia.org
SUMMARY:Dinner - Venue to be announced
DESCRIPTION:
URL:https://adelaidehillsdementia.org/event/dinner-venue-to-be-announced-13/
LOCATION:To Be Announced\, Adelaide Hills\, South Australia\, Australia
ATTACH;FMTTYPE=image/webp:https://adelaidehillsdementia.org/wp-content/uploads/2025/09/Venue-TBA-web.webp
END:VEVENT
BEGIN:VEVENT
DTSTART;TZID=Australia/Adelaide:20260827T123000
DTEND;TZID=Australia/Adelaide:20260827T143000
DTSTAMP:20260425T011738
CREATED:20250812T054000Z
LAST-MODIFIED:20250904T042108Z
UID:10000873-1787833800-1787841000@adelaidehillsdementia.org
SUMMARY:Lunch - Venue to be announced
DESCRIPTION:
URL:https://adelaidehillsdementia.org/event/lunch-venue-to-be-announced-13/
LOCATION:To Be Announced\, Adelaide Hills\, South Australia\, Australia
ATTACH;FMTTYPE=image/webp:https://adelaidehillsdementia.org/wp-content/uploads/2025/09/Venue-TBA-web.webp
ORGANIZER;CN="Vern Marshall":MAILTO:vern.c.marshall@gmail.com
END:VEVENT
BEGIN:VEVENT
DTSTART;TZID=Australia/Adelaide:20260910T180000
DTEND;TZID=Australia/Adelaide:20260910T203000
DTSTAMP:20260425T011738
CREATED:20250829T002937Z
LAST-MODIFIED:20250904T042025Z
UID:10000875-1789063200-1789072200@adelaidehillsdementia.org
SUMMARY:Dinner - Venue to be announced
DESCRIPTION:
URL:https://adelaidehillsdementia.org/event/dinner-venue-to-be-announced-3/
LOCATION:To Be Announced\, Adelaide Hills\, South Australia\, Australia
ATTACH;FMTTYPE=image/webp:https://adelaidehillsdementia.org/wp-content/uploads/2025/09/Venue-TBA-web.webp
END:VEVENT
BEGIN:VEVENT
DTSTART;TZID=Australia/Adelaide:20260924T123000
DTEND;TZID=Australia/Adelaide:20260924T143000
DTSTAMP:20260425T011738
CREATED:20250904T040438Z
LAST-MODIFIED:20250904T041933Z
UID:10000876-1790253000-1790260200@adelaidehillsdementia.org
SUMMARY:Lunch - Venue to be announced
DESCRIPTION:
URL:https://adelaidehillsdementia.org/event/lunch-venue-to-be-announced-4/
LOCATION:To Be Announced\, Adelaide Hills\, South Australia\, Australia
ATTACH;FMTTYPE=image/webp:https://adelaidehillsdementia.org/wp-content/uploads/2025/09/Venue-TBA-web.webp
ORGANIZER;CN="Vern Marshall":MAILTO:vern.c.marshall@gmail.com
END:VEVENT
BEGIN:VEVENT
DTSTART;TZID=Australia/Adelaide:20261008T180000
DTEND;TZID=Australia/Adelaide:20261008T203000
DTSTAMP:20260425T011738
CREATED:20250918T124049Z
LAST-MODIFIED:20250918T124050Z
UID:10000883-1791482400-1791491400@adelaidehillsdementia.org
SUMMARY:Dinner - Venue to be announced
DESCRIPTION:
URL:https://adelaidehillsdementia.org/event/dinner-venue-to-be-announced-4/
LOCATION:To Be Announced\, Adelaide Hills\, South Australia\, Australia
ATTACH;FMTTYPE=image/webp:https://adelaidehillsdementia.org/wp-content/uploads/2025/09/Venue-TBA-web.webp
END:VEVENT
BEGIN:VEVENT
DTSTART;TZID=Australia/Adelaide:20261022T123000
DTEND;TZID=Australia/Adelaide:20261022T143000
DTSTAMP:20260425T011738
CREATED:20251015T003935Z
LAST-MODIFIED:20251015T003937Z
UID:10000886-1792672200-1792679400@adelaidehillsdementia.org
SUMMARY:Lunch - Venue to be announced
DESCRIPTION:
URL:https://adelaidehillsdementia.org/event/lunch-venue-to-be-announced-5/
LOCATION:To Be Announced\, Adelaide Hills\, South Australia\, Australia
ATTACH;FMTTYPE=image/webp:https://adelaidehillsdementia.org/wp-content/uploads/2025/09/Venue-TBA-web.webp
ORGANIZER;CN="Vern Marshall":MAILTO:vern.c.marshall@gmail.com
END:VEVENT
BEGIN:VEVENT
DTSTART;TZID=Australia/Adelaide:20261112T180000
DTEND;TZID=Australia/Adelaide:20261112T203000
DTSTAMP:20260425T011738
CREATED:20250321T015032Z
LAST-MODIFIED:20251009T002439Z
UID:10000847-1794506400-1794515400@adelaidehillsdementia.org
SUMMARY:Dinner - Venue to be announced
DESCRIPTION:
URL:https://adelaidehillsdementia.org/event/dinner-venue-to-be-announced-7/
LOCATION:To Be Announced\, Adelaide Hills\, South Australia\, Australia
ATTACH;FMTTYPE=image/webp:https://adelaidehillsdementia.org/wp-content/uploads/2025/09/Venue-TBA-web.webp
END:VEVENT
BEGIN:VEVENT
DTSTART;TZID=Australia/Adelaide:20261126T123000
DTEND;TZID=Australia/Adelaide:20261126T143000
DTSTAMP:20260425T011738
CREATED:20251106T034138Z
LAST-MODIFIED:20251106T034139Z
UID:10000888-1795696200-1795703400@adelaidehillsdementia.org
SUMMARY:Lunch - Venue to be announced
DESCRIPTION:
URL:https://adelaidehillsdementia.org/event/lunch-venue-to-be-announced-6/
LOCATION:To Be Announced\, Adelaide Hills\, South Australia\, Australia
ATTACH;FMTTYPE=image/webp:https://adelaidehillsdementia.org/wp-content/uploads/2025/09/Venue-TBA-web.webp
ORGANIZER;CN="Vern Marshall":MAILTO:vern.c.marshall@gmail.com
END:VEVENT
BEGIN:VEVENT
DTSTART;TZID=Australia/Adelaide:20261210T180000
DTEND;TZID=Australia/Adelaide:20261210T203000
DTSTAMP:20260425T011738
CREATED:20251121T073326Z
LAST-MODIFIED:20251121T073327Z
UID:10000892-1796925600-1796934600@adelaidehillsdementia.org
SUMMARY:Dinner - Venue to be announced
DESCRIPTION:
URL:https://adelaidehillsdementia.org/event/dinner-venue-to-be-announced-5/
LOCATION:To Be Announced\, Adelaide Hills\, South Australia\, Australia
ATTACH;FMTTYPE=image/webp:https://adelaidehillsdementia.org/wp-content/uploads/2025/09/Venue-TBA-web.webp
END:VEVENT
BEGIN:VEVENT
DTSTART;TZID=Australia/Adelaide:20261224T123000
DTEND;TZID=Australia/Adelaide:20261224T143000
DTSTAMP:20260425T011738
CREATED:20250307T033559Z
LAST-MODIFIED:20251106T034007Z
UID:10000834-1798115400-1798122600@adelaidehillsdementia.org
SUMMARY:Lunch - Venue to be announced
DESCRIPTION:
URL:https://adelaidehillsdementia.org/event/lunch-venue-to-be-announced-9/
LOCATION:To Be Announced\, Adelaide Hills\, South Australia\, Australia
ATTACH;FMTTYPE=image/webp:https://adelaidehillsdementia.org/wp-content/uploads/2025/09/Venue-TBA-web.webp
ORGANIZER;CN="Vern Marshall":MAILTO:vern.c.marshall@gmail.com
END:VEVENT
BEGIN:VEVENT
DTSTART;TZID=Australia/Adelaide:20270114T180000
DTEND;TZID=Australia/Adelaide:20270114T203000
DTSTAMP:20260425T011738
CREATED:20250321T015153Z
LAST-MODIFIED:20260108T065915Z
UID:10000849-1799949600-1799958600@adelaidehillsdementia.org
SUMMARY:Dinner - Venue to be announced
DESCRIPTION:
URL:https://adelaidehillsdementia.org/event/dinner-venue-to-be-announced-9/
LOCATION:To Be Announced\, Adelaide Hills\, South Australia\, Australia
ATTACH;FMTTYPE=image/webp:https://adelaidehillsdementia.org/wp-content/uploads/2025/09/Venue-TBA-web.webp
END:VEVENT
BEGIN:VEVENT
DTSTART;TZID=Australia/Adelaide:20270121T123000
DTEND;TZID=Australia/Adelaide:20270121T143000
DTSTAMP:20260425T011738
CREATED:20250307T033635Z
LAST-MODIFIED:20251125T024257Z
UID:10000835-1800534600-1800541800@adelaidehillsdementia.org
SUMMARY:Lunch - Venue to be announced
DESCRIPTION:
URL:https://adelaidehillsdementia.org/event/lunch-venue-to-be-announced-10/
LOCATION:To Be Announced\, Adelaide Hills\, South Australia\, Australia
ATTACH;FMTTYPE=image/webp:https://adelaidehillsdementia.org/wp-content/uploads/2025/09/Venue-TBA-web.webp
ORGANIZER;CN="Vern Marshall":MAILTO:vern.c.marshall@gmail.com
END:VEVENT
BEGIN:VEVENT
DTSTART;TZID=Australia/Adelaide:20270211T180000
DTEND;TZID=Australia/Adelaide:20270211T203000
DTSTAMP:20260425T011738
CREATED:20260108T061924Z
LAST-MODIFIED:20260108T061926Z
UID:10000972-1802368800-1802377800@adelaidehillsdementia.org
SUMMARY:Dinner - Venue to be announced
DESCRIPTION:
URL:https://adelaidehillsdementia.org/event/dinner-venue-to-be-announced-6/
LOCATION:To Be Announced\, Adelaide Hills\, South Australia\, Australia
ATTACH;FMTTYPE=image/webp:https://adelaidehillsdementia.org/wp-content/uploads/2025/09/Venue-TBA-web.webp
END:VEVENT
BEGIN:VEVENT
DTSTART;TZID=Australia/Adelaide:20270225T123000
DTEND;TZID=Australia/Adelaide:20270225T143000
DTSTAMP:20260425T011738
CREATED:20250307T033717Z
LAST-MODIFIED:20260108T061334Z
UID:10000836-1803558600-1803565800@adelaidehillsdementia.org
SUMMARY:Lunch - Venue to be announced
DESCRIPTION:
URL:https://adelaidehillsdementia.org/event/lunch-venue-to-be-announced-11/
LOCATION:To Be Announced\, Adelaide Hills\, South Australia\, Australia
ATTACH;FMTTYPE=image/webp:https://adelaidehillsdementia.org/wp-content/uploads/2025/09/Venue-TBA-web.webp
ORGANIZER;CN="Vern Marshall":MAILTO:vern.c.marshall@gmail.com
END:VEVENT
BEGIN:VEVENT
DTSTART;TZID=Australia/Adelaide:20270311T180000
DTEND;TZID=Australia/Adelaide:20270311T203000
DTSTAMP:20260425T011738
CREATED:20260305T041251Z
LAST-MODIFIED:20260305T041253Z
UID:10000981-1804788000-1804797000@adelaidehillsdementia.org
SUMMARY:Dinner - Venue to be announced
DESCRIPTION:
URL:https://adelaidehillsdementia.org/event/dinner-venue-to-be-announced-8/
LOCATION:To Be Announced\, Adelaide Hills\, South Australia\, Australia
ATTACH;FMTTYPE=image/webp:https://adelaidehillsdementia.org/wp-content/uploads/2025/09/Venue-TBA-web.webp
END:VEVENT
BEGIN:VEVENT
DTSTART;TZID=Australia/Adelaide:20270325T123000
DTEND;TZID=Australia/Adelaide:20270325T143000
DTSTAMP:20260425T011739
CREATED:20250307T033111Z
LAST-MODIFIED:20260305T042934Z
UID:10000826-1805977800-1805985000@adelaidehillsdementia.org
SUMMARY:Lunch - Venue to be announced
DESCRIPTION:
URL:https://adelaidehillsdementia.org/event/lunch-venue-to-be-announced/
LOCATION:To Be Announced\, Adelaide Hills\, South Australia\, Australia
ATTACH;FMTTYPE=image/webp:https://adelaidehillsdementia.org/wp-content/uploads/2025/09/Venue-TBA-web.webp
ORGANIZER;CN="Vern Marshall":MAILTO:vern.c.marshall@gmail.com
END:VEVENT
BEGIN:VEVENT
DTSTART;TZID=Australia/Adelaide:20270408T180000
DTEND;TZID=Australia/Adelaide:20270408T203000
DTSTAMP:20260425T011739
CREATED:20260324T005309Z
LAST-MODIFIED:20260324T005311Z
UID:10000985-1807207200-1807216200@adelaidehillsdementia.org
SUMMARY:Dinner - Venue to be announced
DESCRIPTION:
URL:https://adelaidehillsdementia.org/event/dinner-venue-to-be-announced-10/
LOCATION:To Be Announced\, Adelaide Hills\, South Australia\, Australia
ATTACH;FMTTYPE=image/webp:https://adelaidehillsdementia.org/wp-content/uploads/2025/09/Venue-TBA-web.webp
ORGANIZER;CN="Vern Marshall":MAILTO:vern.c.marshall@gmail.com
END:VEVENT
BEGIN:VEVENT
DTSTART;TZID=Australia/Adelaide:20270513T180000
DTEND;TZID=Australia/Adelaide:20270513T203000
DTSTAMP:20260425T011739
CREATED:20250321T014405Z
LAST-MODIFIED:20260408T080452Z
UID:10000841-1810231200-1810240200@adelaidehillsdementia.org
SUMMARY:Dinner - Venue to be announced
DESCRIPTION:
URL:https://adelaidehillsdementia.org/event/dinner-venue-to-be-announced/
LOCATION:To Be Announced\, Adelaide Hills\, South Australia\, Australia
ATTACH;FMTTYPE=image/webp:https://adelaidehillsdementia.org/wp-content/uploads/2025/09/Venue-TBA-web.webp
END:VEVENT
END:VCALENDAR