BEGIN:VCALENDAR
VERSION:2.0
PRODID:-//Adelaide Hills Dementia Carers Social Support Group - ECPv6.15.20//NONSGML v1.0//EN
CALSCALE:GREGORIAN
METHOD:PUBLISH
X-ORIGINAL-URL:https://adelaidehillsdementia.org
X-WR-CALDESC:Events for Adelaide Hills Dementia Carers Social Support Group
REFRESH-INTERVAL;VALUE=DURATION:PT1H
X-Robots-Tag:noindex
X-PUBLISHED-TTL:PT1H
BEGIN:VTIMEZONE
TZID:Australia/Adelaide
BEGIN:STANDARD
TZOFFSETFROM:+1030
TZOFFSETTO:+0930
TZNAME:ACST
DTSTART:20270403T163000
END:STANDARD
BEGIN:DAYLIGHT
TZOFFSETFROM:+0930
TZOFFSETTO:+1030
TZNAME:ACDT
DTSTART:20271002T163000
END:DAYLIGHT
BEGIN:STANDARD
TZOFFSETFROM:+1030
TZOFFSETTO:+0930
TZNAME:ACST
DTSTART:20280401T163000
END:STANDARD
BEGIN:DAYLIGHT
TZOFFSETFROM:+0930
TZOFFSETTO:+1030
TZNAME:ACDT
DTSTART:20280930T163000
END:DAYLIGHT
BEGIN:STANDARD
TZOFFSETFROM:+1030
TZOFFSETTO:+0930
TZNAME:ACST
DTSTART:20290331T163000
END:STANDARD
BEGIN:DAYLIGHT
TZOFFSETFROM:+0930
TZOFFSETTO:+1030
TZNAME:ACDT
DTSTART:20291006T163000
END:DAYLIGHT
BEGIN:STANDARD
TZOFFSETFROM:+1030
TZOFFSETTO:+0930
TZNAME:ACST
DTSTART:20300406T163000
END:STANDARD
BEGIN:DAYLIGHT
TZOFFSETFROM:+0930
TZOFFSETTO:+1030
TZNAME:ACDT
DTSTART:20301005T163000
END:DAYLIGHT
BEGIN:STANDARD
TZOFFSETFROM:+1030
TZOFFSETTO:+0930
TZNAME:ACST
DTSTART:20310405T163000
END:STANDARD
BEGIN:DAYLIGHT
TZOFFSETFROM:+0930
TZOFFSETTO:+1030
TZNAME:ACDT
DTSTART:20311004T163000
END:DAYLIGHT
BEGIN:STANDARD
TZOFFSETFROM:+1030
TZOFFSETTO:+0930
TZNAME:ACST
DTSTART:20320403T163000
END:STANDARD
BEGIN:DAYLIGHT
TZOFFSETFROM:+0930
TZOFFSETTO:+1030
TZNAME:ACDT
DTSTART:20321002T163000
END:DAYLIGHT
END:VTIMEZONE
BEGIN:VEVENT
DTSTART;TZID=Australia/Adelaide:20281102T130000
DTEND;TZID=Australia/Adelaide:20281102T143000
DTSTAMP:20260425T055538
CREATED:20250227T053142Z
LAST-MODIFIED:20251106T035704Z
UID:10000757-1856782800-1856788200@adelaidehillsdementia.org
SUMMARY:Strathalbyn Coffee Group
DESCRIPTION:
URL:https://adelaidehillsdementia.org/event/strathalbyn-coffee-group/2028-11-02/
LOCATION:Appleseed Cafe\, 30 high street\, Strathalbyn\, South Australia\, 5255\, Australia
ATTACH;FMTTYPE=image/jpeg:https://adelaidehillsdementia.org/wp-content/uploads/2024/12/Appleseed.jpg
ORGANIZER;CN="Vern Marshall":MAILTO:vern.c.marshall@gmail.com
GEO:-35.255210773981;138.89307976866
X-APPLE-STRUCTURED-LOCATION;VALUE=URI;X-ADDRESS=Appleseed Cafe 30 high street Strathalbyn South Australia 5255 Australia;X-APPLE-RADIUS=500;X-TITLE=30 high street:geo:138.89307976866,-35.255210773981
END:VEVENT
BEGIN:VEVENT
DTSTART;TZID=Australia/Adelaide:20281207T130000
DTEND;TZID=Australia/Adelaide:20281207T143000
DTSTAMP:20260425T055538
CREATED:20250227T053142Z
LAST-MODIFIED:20251106T035704Z
UID:10000758-1859806800-1859812200@adelaidehillsdementia.org
SUMMARY:Strathalbyn Coffee Group
DESCRIPTION:
URL:https://adelaidehillsdementia.org/event/strathalbyn-coffee-group/2028-12-07/
LOCATION:Appleseed Cafe\, 30 high street\, Strathalbyn\, South Australia\, 5255\, Australia
ATTACH;FMTTYPE=image/jpeg:https://adelaidehillsdementia.org/wp-content/uploads/2024/12/Appleseed.jpg
ORGANIZER;CN="Vern Marshall":MAILTO:vern.c.marshall@gmail.com
GEO:-35.255210773981;138.89307976866
X-APPLE-STRUCTURED-LOCATION;VALUE=URI;X-ADDRESS=Appleseed Cafe 30 high street Strathalbyn South Australia 5255 Australia;X-APPLE-RADIUS=500;X-TITLE=30 high street:geo:138.89307976866,-35.255210773981
END:VEVENT
BEGIN:VEVENT
DTSTART;TZID=Australia/Adelaide:20290104T130000
DTEND;TZID=Australia/Adelaide:20290104T143000
DTSTAMP:20260425T055538
CREATED:20250227T053142Z
LAST-MODIFIED:20251106T035704Z
UID:10000759-1862226000-1862231400@adelaidehillsdementia.org
SUMMARY:Strathalbyn Coffee Group
DESCRIPTION:
URL:https://adelaidehillsdementia.org/event/strathalbyn-coffee-group/2029-01-04/
LOCATION:Appleseed Cafe\, 30 high street\, Strathalbyn\, South Australia\, 5255\, Australia
ATTACH;FMTTYPE=image/jpeg:https://adelaidehillsdementia.org/wp-content/uploads/2024/12/Appleseed.jpg
ORGANIZER;CN="Vern Marshall":MAILTO:vern.c.marshall@gmail.com
GEO:-35.255210773981;138.89307976866
X-APPLE-STRUCTURED-LOCATION;VALUE=URI;X-ADDRESS=Appleseed Cafe 30 high street Strathalbyn South Australia 5255 Australia;X-APPLE-RADIUS=500;X-TITLE=30 high street:geo:138.89307976866,-35.255210773981
END:VEVENT
BEGIN:VEVENT
DTSTART;TZID=Australia/Adelaide:20290201T130000
DTEND;TZID=Australia/Adelaide:20290201T143000
DTSTAMP:20260425T055538
CREATED:20250227T053142Z
LAST-MODIFIED:20251106T035704Z
UID:10000760-1864645200-1864650600@adelaidehillsdementia.org
SUMMARY:Strathalbyn Coffee Group
DESCRIPTION:
URL:https://adelaidehillsdementia.org/event/strathalbyn-coffee-group/2029-02-01/
LOCATION:Appleseed Cafe\, 30 high street\, Strathalbyn\, South Australia\, 5255\, Australia
ATTACH;FMTTYPE=image/jpeg:https://adelaidehillsdementia.org/wp-content/uploads/2024/12/Appleseed.jpg
ORGANIZER;CN="Vern Marshall":MAILTO:vern.c.marshall@gmail.com
GEO:-35.255210773981;138.89307976866
X-APPLE-STRUCTURED-LOCATION;VALUE=URI;X-ADDRESS=Appleseed Cafe 30 high street Strathalbyn South Australia 5255 Australia;X-APPLE-RADIUS=500;X-TITLE=30 high street:geo:138.89307976866,-35.255210773981
END:VEVENT
BEGIN:VEVENT
DTSTART;TZID=Australia/Adelaide:20290301T130000
DTEND;TZID=Australia/Adelaide:20290301T143000
DTSTAMP:20260425T055538
CREATED:20250227T053142Z
LAST-MODIFIED:20251106T035704Z
UID:10000761-1867064400-1867069800@adelaidehillsdementia.org
SUMMARY:Strathalbyn Coffee Group
DESCRIPTION:
URL:https://adelaidehillsdementia.org/event/strathalbyn-coffee-group/2029-03-01/
LOCATION:Appleseed Cafe\, 30 high street\, Strathalbyn\, South Australia\, 5255\, Australia
ATTACH;FMTTYPE=image/jpeg:https://adelaidehillsdementia.org/wp-content/uploads/2024/12/Appleseed.jpg
ORGANIZER;CN="Vern Marshall":MAILTO:vern.c.marshall@gmail.com
GEO:-35.255210773981;138.89307976866
X-APPLE-STRUCTURED-LOCATION;VALUE=URI;X-ADDRESS=Appleseed Cafe 30 high street Strathalbyn South Australia 5255 Australia;X-APPLE-RADIUS=500;X-TITLE=30 high street:geo:138.89307976866,-35.255210773981
END:VEVENT
BEGIN:VEVENT
DTSTART;TZID=Australia/Adelaide:20290405T130000
DTEND;TZID=Australia/Adelaide:20290405T143000
DTSTAMP:20260425T055538
CREATED:20250227T053142Z
LAST-MODIFIED:20251106T035704Z
UID:10000762-1870088400-1870093800@adelaidehillsdementia.org
SUMMARY:Strathalbyn Coffee Group
DESCRIPTION:
URL:https://adelaidehillsdementia.org/event/strathalbyn-coffee-group/2029-04-05/
LOCATION:Appleseed Cafe\, 30 high street\, Strathalbyn\, South Australia\, 5255\, Australia
ATTACH;FMTTYPE=image/jpeg:https://adelaidehillsdementia.org/wp-content/uploads/2024/12/Appleseed.jpg
ORGANIZER;CN="Vern Marshall":MAILTO:vern.c.marshall@gmail.com
GEO:-35.255210773981;138.89307976866
X-APPLE-STRUCTURED-LOCATION;VALUE=URI;X-ADDRESS=Appleseed Cafe 30 high street Strathalbyn South Australia 5255 Australia;X-APPLE-RADIUS=500;X-TITLE=30 high street:geo:138.89307976866,-35.255210773981
END:VEVENT
BEGIN:VEVENT
DTSTART;TZID=Australia/Adelaide:20290503T130000
DTEND;TZID=Australia/Adelaide:20290503T143000
DTSTAMP:20260425T055538
CREATED:20250227T053142Z
LAST-MODIFIED:20251106T035704Z
UID:10000763-1872507600-1872513000@adelaidehillsdementia.org
SUMMARY:Strathalbyn Coffee Group
DESCRIPTION:
URL:https://adelaidehillsdementia.org/event/strathalbyn-coffee-group/2029-05-03/
LOCATION:Appleseed Cafe\, 30 high street\, Strathalbyn\, South Australia\, 5255\, Australia
ATTACH;FMTTYPE=image/jpeg:https://adelaidehillsdementia.org/wp-content/uploads/2024/12/Appleseed.jpg
ORGANIZER;CN="Vern Marshall":MAILTO:vern.c.marshall@gmail.com
GEO:-35.255210773981;138.89307976866
X-APPLE-STRUCTURED-LOCATION;VALUE=URI;X-ADDRESS=Appleseed Cafe 30 high street Strathalbyn South Australia 5255 Australia;X-APPLE-RADIUS=500;X-TITLE=30 high street:geo:138.89307976866,-35.255210773981
END:VEVENT
BEGIN:VEVENT
DTSTART;TZID=Australia/Adelaide:20290607T130000
DTEND;TZID=Australia/Adelaide:20290607T143000
DTSTAMP:20260425T055538
CREATED:20250227T053142Z
LAST-MODIFIED:20251106T035704Z
UID:10000764-1875531600-1875537000@adelaidehillsdementia.org
SUMMARY:Strathalbyn Coffee Group
DESCRIPTION:
URL:https://adelaidehillsdementia.org/event/strathalbyn-coffee-group/2029-06-07/
LOCATION:Appleseed Cafe\, 30 high street\, Strathalbyn\, South Australia\, 5255\, Australia
ATTACH;FMTTYPE=image/jpeg:https://adelaidehillsdementia.org/wp-content/uploads/2024/12/Appleseed.jpg
ORGANIZER;CN="Vern Marshall":MAILTO:vern.c.marshall@gmail.com
GEO:-35.255210773981;138.89307976866
X-APPLE-STRUCTURED-LOCATION;VALUE=URI;X-ADDRESS=Appleseed Cafe 30 high street Strathalbyn South Australia 5255 Australia;X-APPLE-RADIUS=500;X-TITLE=30 high street:geo:138.89307976866,-35.255210773981
END:VEVENT
BEGIN:VEVENT
DTSTART;TZID=Australia/Adelaide:20290705T130000
DTEND;TZID=Australia/Adelaide:20290705T143000
DTSTAMP:20260425T055538
CREATED:20250227T053142Z
LAST-MODIFIED:20251106T035704Z
UID:10000765-1877950800-1877956200@adelaidehillsdementia.org
SUMMARY:Strathalbyn Coffee Group
DESCRIPTION:
URL:https://adelaidehillsdementia.org/event/strathalbyn-coffee-group/2029-07-05/
LOCATION:Appleseed Cafe\, 30 high street\, Strathalbyn\, South Australia\, 5255\, Australia
ATTACH;FMTTYPE=image/jpeg:https://adelaidehillsdementia.org/wp-content/uploads/2024/12/Appleseed.jpg
ORGANIZER;CN="Vern Marshall":MAILTO:vern.c.marshall@gmail.com
GEO:-35.255210773981;138.89307976866
X-APPLE-STRUCTURED-LOCATION;VALUE=URI;X-ADDRESS=Appleseed Cafe 30 high street Strathalbyn South Australia 5255 Australia;X-APPLE-RADIUS=500;X-TITLE=30 high street:geo:138.89307976866,-35.255210773981
END:VEVENT
BEGIN:VEVENT
DTSTART;TZID=Australia/Adelaide:20290802T130000
DTEND;TZID=Australia/Adelaide:20290802T143000
DTSTAMP:20260425T055538
CREATED:20250227T053142Z
LAST-MODIFIED:20251106T035704Z
UID:10000766-1880370000-1880375400@adelaidehillsdementia.org
SUMMARY:Strathalbyn Coffee Group
DESCRIPTION:
URL:https://adelaidehillsdementia.org/event/strathalbyn-coffee-group/2029-08-02/
LOCATION:Appleseed Cafe\, 30 high street\, Strathalbyn\, South Australia\, 5255\, Australia
ATTACH;FMTTYPE=image/jpeg:https://adelaidehillsdementia.org/wp-content/uploads/2024/12/Appleseed.jpg
ORGANIZER;CN="Vern Marshall":MAILTO:vern.c.marshall@gmail.com
GEO:-35.255210773981;138.89307976866
X-APPLE-STRUCTURED-LOCATION;VALUE=URI;X-ADDRESS=Appleseed Cafe 30 high street Strathalbyn South Australia 5255 Australia;X-APPLE-RADIUS=500;X-TITLE=30 high street:geo:138.89307976866,-35.255210773981
END:VEVENT
BEGIN:VEVENT
DTSTART;TZID=Australia/Adelaide:20290906T130000
DTEND;TZID=Australia/Adelaide:20290906T143000
DTSTAMP:20260425T055538
CREATED:20250227T053142Z
LAST-MODIFIED:20251106T035704Z
UID:10000767-1883394000-1883399400@adelaidehillsdementia.org
SUMMARY:Strathalbyn Coffee Group
DESCRIPTION:
URL:https://adelaidehillsdementia.org/event/strathalbyn-coffee-group/2029-09-06/
LOCATION:Appleseed Cafe\, 30 high street\, Strathalbyn\, South Australia\, 5255\, Australia
ATTACH;FMTTYPE=image/jpeg:https://adelaidehillsdementia.org/wp-content/uploads/2024/12/Appleseed.jpg
ORGANIZER;CN="Vern Marshall":MAILTO:vern.c.marshall@gmail.com
GEO:-35.255210773981;138.89307976866
X-APPLE-STRUCTURED-LOCATION;VALUE=URI;X-ADDRESS=Appleseed Cafe 30 high street Strathalbyn South Australia 5255 Australia;X-APPLE-RADIUS=500;X-TITLE=30 high street:geo:138.89307976866,-35.255210773981
END:VEVENT
BEGIN:VEVENT
DTSTART;TZID=Australia/Adelaide:20291004T130000
DTEND;TZID=Australia/Adelaide:20291004T143000
DTSTAMP:20260425T055538
CREATED:20250227T053142Z
LAST-MODIFIED:20251106T035704Z
UID:10000768-1885813200-1885818600@adelaidehillsdementia.org
SUMMARY:Strathalbyn Coffee Group
DESCRIPTION:
URL:https://adelaidehillsdementia.org/event/strathalbyn-coffee-group/2029-10-04/
LOCATION:Appleseed Cafe\, 30 high street\, Strathalbyn\, South Australia\, 5255\, Australia
ATTACH;FMTTYPE=image/jpeg:https://adelaidehillsdementia.org/wp-content/uploads/2024/12/Appleseed.jpg
ORGANIZER;CN="Vern Marshall":MAILTO:vern.c.marshall@gmail.com
GEO:-35.255210773981;138.89307976866
X-APPLE-STRUCTURED-LOCATION;VALUE=URI;X-ADDRESS=Appleseed Cafe 30 high street Strathalbyn South Australia 5255 Australia;X-APPLE-RADIUS=500;X-TITLE=30 high street:geo:138.89307976866,-35.255210773981
END:VEVENT
BEGIN:VEVENT
DTSTART;TZID=Australia/Adelaide:20291101T130000
DTEND;TZID=Australia/Adelaide:20291101T143000
DTSTAMP:20260425T055538
CREATED:20250227T053142Z
LAST-MODIFIED:20251106T035704Z
UID:10000769-1888232400-1888237800@adelaidehillsdementia.org
SUMMARY:Strathalbyn Coffee Group
DESCRIPTION:
URL:https://adelaidehillsdementia.org/event/strathalbyn-coffee-group/2029-11-01/
LOCATION:Appleseed Cafe\, 30 high street\, Strathalbyn\, South Australia\, 5255\, Australia
ATTACH;FMTTYPE=image/jpeg:https://adelaidehillsdementia.org/wp-content/uploads/2024/12/Appleseed.jpg
ORGANIZER;CN="Vern Marshall":MAILTO:vern.c.marshall@gmail.com
GEO:-35.255210773981;138.89307976866
X-APPLE-STRUCTURED-LOCATION;VALUE=URI;X-ADDRESS=Appleseed Cafe 30 high street Strathalbyn South Australia 5255 Australia;X-APPLE-RADIUS=500;X-TITLE=30 high street:geo:138.89307976866,-35.255210773981
END:VEVENT
BEGIN:VEVENT
DTSTART;TZID=Australia/Adelaide:20291206T130000
DTEND;TZID=Australia/Adelaide:20291206T143000
DTSTAMP:20260425T055538
CREATED:20250227T053142Z
LAST-MODIFIED:20251106T035704Z
UID:10000770-1891256400-1891261800@adelaidehillsdementia.org
SUMMARY:Strathalbyn Coffee Group
DESCRIPTION:
URL:https://adelaidehillsdementia.org/event/strathalbyn-coffee-group/2029-12-06/
LOCATION:Appleseed Cafe\, 30 high street\, Strathalbyn\, South Australia\, 5255\, Australia
ATTACH;FMTTYPE=image/jpeg:https://adelaidehillsdementia.org/wp-content/uploads/2024/12/Appleseed.jpg
ORGANIZER;CN="Vern Marshall":MAILTO:vern.c.marshall@gmail.com
GEO:-35.255210773981;138.89307976866
X-APPLE-STRUCTURED-LOCATION;VALUE=URI;X-ADDRESS=Appleseed Cafe 30 high street Strathalbyn South Australia 5255 Australia;X-APPLE-RADIUS=500;X-TITLE=30 high street:geo:138.89307976866,-35.255210773981
END:VEVENT
BEGIN:VEVENT
DTSTART;TZID=Australia/Adelaide:20300103T130000
DTEND;TZID=Australia/Adelaide:20300103T143000
DTSTAMP:20260425T055538
CREATED:20250227T053142Z
LAST-MODIFIED:20251106T035704Z
UID:10000771-1893675600-1893681000@adelaidehillsdementia.org
SUMMARY:Strathalbyn Coffee Group
DESCRIPTION:
URL:https://adelaidehillsdementia.org/event/strathalbyn-coffee-group/2030-01-03/
LOCATION:Appleseed Cafe\, 30 high street\, Strathalbyn\, South Australia\, 5255\, Australia
ATTACH;FMTTYPE=image/jpeg:https://adelaidehillsdementia.org/wp-content/uploads/2024/12/Appleseed.jpg
ORGANIZER;CN="Vern Marshall":MAILTO:vern.c.marshall@gmail.com
GEO:-35.255210773981;138.89307976866
X-APPLE-STRUCTURED-LOCATION;VALUE=URI;X-ADDRESS=Appleseed Cafe 30 high street Strathalbyn South Australia 5255 Australia;X-APPLE-RADIUS=500;X-TITLE=30 high street:geo:138.89307976866,-35.255210773981
END:VEVENT
BEGIN:VEVENT
DTSTART;TZID=Australia/Adelaide:20300207T130000
DTEND;TZID=Australia/Adelaide:20300207T143000
DTSTAMP:20260425T055538
CREATED:20250227T053142Z
LAST-MODIFIED:20251106T035704Z
UID:10000772-1896699600-1896705000@adelaidehillsdementia.org
SUMMARY:Strathalbyn Coffee Group
DESCRIPTION:
URL:https://adelaidehillsdementia.org/event/strathalbyn-coffee-group/2030-02-07/
LOCATION:Appleseed Cafe\, 30 high street\, Strathalbyn\, South Australia\, 5255\, Australia
ATTACH;FMTTYPE=image/jpeg:https://adelaidehillsdementia.org/wp-content/uploads/2024/12/Appleseed.jpg
ORGANIZER;CN="Vern Marshall":MAILTO:vern.c.marshall@gmail.com
GEO:-35.255210773981;138.89307976866
X-APPLE-STRUCTURED-LOCATION;VALUE=URI;X-ADDRESS=Appleseed Cafe 30 high street Strathalbyn South Australia 5255 Australia;X-APPLE-RADIUS=500;X-TITLE=30 high street:geo:138.89307976866,-35.255210773981
END:VEVENT
BEGIN:VEVENT
DTSTART;TZID=Australia/Adelaide:20300307T130000
DTEND;TZID=Australia/Adelaide:20300307T143000
DTSTAMP:20260425T055538
CREATED:20250227T053142Z
LAST-MODIFIED:20251106T035704Z
UID:10000853-1899118800-1899124200@adelaidehillsdementia.org
SUMMARY:Strathalbyn Coffee Group
DESCRIPTION:
URL:https://adelaidehillsdementia.org/event/strathalbyn-coffee-group/2030-03-07/
LOCATION:Appleseed Cafe\, 30 high street\, Strathalbyn\, South Australia\, 5255\, Australia
ATTACH;FMTTYPE=image/jpeg:https://adelaidehillsdementia.org/wp-content/uploads/2024/12/Appleseed.jpg
ORGANIZER;CN="Vern Marshall":MAILTO:vern.c.marshall@gmail.com
GEO:-35.255210773981;138.89307976866
X-APPLE-STRUCTURED-LOCATION;VALUE=URI;X-ADDRESS=Appleseed Cafe 30 high street Strathalbyn South Australia 5255 Australia;X-APPLE-RADIUS=500;X-TITLE=30 high street:geo:138.89307976866,-35.255210773981
END:VEVENT
BEGIN:VEVENT
DTSTART;TZID=Australia/Adelaide:20300404T130000
DTEND;TZID=Australia/Adelaide:20300404T143000
DTSTAMP:20260425T055538
CREATED:20250227T053142Z
LAST-MODIFIED:20251106T035704Z
UID:10000854-1901538000-1901543400@adelaidehillsdementia.org
SUMMARY:Strathalbyn Coffee Group
DESCRIPTION:
URL:https://adelaidehillsdementia.org/event/strathalbyn-coffee-group/2030-04-04/
LOCATION:Appleseed Cafe\, 30 high street\, Strathalbyn\, South Australia\, 5255\, Australia
ATTACH;FMTTYPE=image/jpeg:https://adelaidehillsdementia.org/wp-content/uploads/2024/12/Appleseed.jpg
ORGANIZER;CN="Vern Marshall":MAILTO:vern.c.marshall@gmail.com
GEO:-35.255210773981;138.89307976866
X-APPLE-STRUCTURED-LOCATION;VALUE=URI;X-ADDRESS=Appleseed Cafe 30 high street Strathalbyn South Australia 5255 Australia;X-APPLE-RADIUS=500;X-TITLE=30 high street:geo:138.89307976866,-35.255210773981
END:VEVENT
BEGIN:VEVENT
DTSTART;TZID=Australia/Adelaide:20300502T130000
DTEND;TZID=Australia/Adelaide:20300502T143000
DTSTAMP:20260425T055538
CREATED:20250227T053142Z
LAST-MODIFIED:20251106T035704Z
UID:10000861-1903957200-1903962600@adelaidehillsdementia.org
SUMMARY:Strathalbyn Coffee Group
DESCRIPTION:
URL:https://adelaidehillsdementia.org/event/strathalbyn-coffee-group/2030-05-02/
LOCATION:Appleseed Cafe\, 30 high street\, Strathalbyn\, South Australia\, 5255\, Australia
ATTACH;FMTTYPE=image/jpeg:https://adelaidehillsdementia.org/wp-content/uploads/2024/12/Appleseed.jpg
ORGANIZER;CN="Vern Marshall":MAILTO:vern.c.marshall@gmail.com
GEO:-35.255210773981;138.89307976866
X-APPLE-STRUCTURED-LOCATION;VALUE=URI;X-ADDRESS=Appleseed Cafe 30 high street Strathalbyn South Australia 5255 Australia;X-APPLE-RADIUS=500;X-TITLE=30 high street:geo:138.89307976866,-35.255210773981
END:VEVENT
BEGIN:VEVENT
DTSTART;TZID=Australia/Adelaide:20300606T130000
DTEND;TZID=Australia/Adelaide:20300606T143000
DTSTAMP:20260425T055538
CREATED:20250227T053142Z
LAST-MODIFIED:20251106T035704Z
UID:10000867-1906981200-1906986600@adelaidehillsdementia.org
SUMMARY:Strathalbyn Coffee Group
DESCRIPTION:
URL:https://adelaidehillsdementia.org/event/strathalbyn-coffee-group/2030-06-06/
LOCATION:Appleseed Cafe\, 30 high street\, Strathalbyn\, South Australia\, 5255\, Australia
ATTACH;FMTTYPE=image/jpeg:https://adelaidehillsdementia.org/wp-content/uploads/2024/12/Appleseed.jpg
ORGANIZER;CN="Vern Marshall":MAILTO:vern.c.marshall@gmail.com
GEO:-35.255210773981;138.89307976866
X-APPLE-STRUCTURED-LOCATION;VALUE=URI;X-ADDRESS=Appleseed Cafe 30 high street Strathalbyn South Australia 5255 Australia;X-APPLE-RADIUS=500;X-TITLE=30 high street:geo:138.89307976866,-35.255210773981
END:VEVENT
BEGIN:VEVENT
DTSTART;TZID=Australia/Adelaide:20300704T130000
DTEND;TZID=Australia/Adelaide:20300704T143000
DTSTAMP:20260425T055538
CREATED:20250227T053142Z
LAST-MODIFIED:20251106T035704Z
UID:10000868-1909400400-1909405800@adelaidehillsdementia.org
SUMMARY:Strathalbyn Coffee Group
DESCRIPTION:
URL:https://adelaidehillsdementia.org/event/strathalbyn-coffee-group/2030-07-04/
LOCATION:Appleseed Cafe\, 30 high street\, Strathalbyn\, South Australia\, 5255\, Australia
ATTACH;FMTTYPE=image/jpeg:https://adelaidehillsdementia.org/wp-content/uploads/2024/12/Appleseed.jpg
ORGANIZER;CN="Vern Marshall":MAILTO:vern.c.marshall@gmail.com
GEO:-35.255210773981;138.89307976866
X-APPLE-STRUCTURED-LOCATION;VALUE=URI;X-ADDRESS=Appleseed Cafe 30 high street Strathalbyn South Australia 5255 Australia;X-APPLE-RADIUS=500;X-TITLE=30 high street:geo:138.89307976866,-35.255210773981
END:VEVENT
BEGIN:VEVENT
DTSTART;TZID=Australia/Adelaide:20300801T130000
DTEND;TZID=Australia/Adelaide:20300801T143000
DTSTAMP:20260425T055538
CREATED:20250227T053142Z
LAST-MODIFIED:20251106T035704Z
UID:10000872-1911819600-1911825000@adelaidehillsdementia.org
SUMMARY:Strathalbyn Coffee Group
DESCRIPTION:
URL:https://adelaidehillsdementia.org/event/strathalbyn-coffee-group/2030-08-01/
LOCATION:Appleseed Cafe\, 30 high street\, Strathalbyn\, South Australia\, 5255\, Australia
ATTACH;FMTTYPE=image/jpeg:https://adelaidehillsdementia.org/wp-content/uploads/2024/12/Appleseed.jpg
ORGANIZER;CN="Vern Marshall":MAILTO:vern.c.marshall@gmail.com
GEO:-35.255210773981;138.89307976866
X-APPLE-STRUCTURED-LOCATION;VALUE=URI;X-ADDRESS=Appleseed Cafe 30 high street Strathalbyn South Australia 5255 Australia;X-APPLE-RADIUS=500;X-TITLE=30 high street:geo:138.89307976866,-35.255210773981
END:VEVENT
BEGIN:VEVENT
DTSTART;TZID=Australia/Adelaide:20300905T130000
DTEND;TZID=Australia/Adelaide:20300905T143000
DTSTAMP:20260425T055538
CREATED:20250227T053142Z
LAST-MODIFIED:20251106T035704Z
UID:10000879-1914843600-1914849000@adelaidehillsdementia.org
SUMMARY:Strathalbyn Coffee Group
DESCRIPTION:
URL:https://adelaidehillsdementia.org/event/strathalbyn-coffee-group/2030-09-05/
LOCATION:Appleseed Cafe\, 30 high street\, Strathalbyn\, South Australia\, 5255\, Australia
ATTACH;FMTTYPE=image/jpeg:https://adelaidehillsdementia.org/wp-content/uploads/2024/12/Appleseed.jpg
ORGANIZER;CN="Vern Marshall":MAILTO:vern.c.marshall@gmail.com
GEO:-35.255210773981;138.89307976866
X-APPLE-STRUCTURED-LOCATION;VALUE=URI;X-ADDRESS=Appleseed Cafe 30 high street Strathalbyn South Australia 5255 Australia;X-APPLE-RADIUS=500;X-TITLE=30 high street:geo:138.89307976866,-35.255210773981
END:VEVENT
BEGIN:VEVENT
DTSTART;TZID=Australia/Adelaide:20301003T130000
DTEND;TZID=Australia/Adelaide:20301003T143000
DTSTAMP:20260425T055538
CREATED:20250227T053142Z
LAST-MODIFIED:20251106T035704Z
UID:10000885-1917262800-1917268200@adelaidehillsdementia.org
SUMMARY:Strathalbyn Coffee Group
DESCRIPTION:
URL:https://adelaidehillsdementia.org/event/strathalbyn-coffee-group/2030-10-03/
LOCATION:Appleseed Cafe\, 30 high street\, Strathalbyn\, South Australia\, 5255\, Australia
ATTACH;FMTTYPE=image/jpeg:https://adelaidehillsdementia.org/wp-content/uploads/2024/12/Appleseed.jpg
ORGANIZER;CN="Vern Marshall":MAILTO:vern.c.marshall@gmail.com
GEO:-35.255210773981;138.89307976866
X-APPLE-STRUCTURED-LOCATION;VALUE=URI;X-ADDRESS=Appleseed Cafe 30 high street Strathalbyn South Australia 5255 Australia;X-APPLE-RADIUS=500;X-TITLE=30 high street:geo:138.89307976866,-35.255210773981
END:VEVENT
BEGIN:VEVENT
DTSTART;TZID=Australia/Adelaide:20301107T130000
DTEND;TZID=Australia/Adelaide:20301107T143000
DTSTAMP:20260425T055538
CREATED:20250227T053142Z
LAST-MODIFIED:20251106T035704Z
UID:10000895-1920286800-1920292200@adelaidehillsdementia.org
SUMMARY:Strathalbyn Coffee Group
DESCRIPTION:
URL:https://adelaidehillsdementia.org/event/strathalbyn-coffee-group/2030-11-07/
LOCATION:Appleseed Cafe\, 30 high street\, Strathalbyn\, South Australia\, 5255\, Australia
ATTACH;FMTTYPE=image/jpeg:https://adelaidehillsdementia.org/wp-content/uploads/2024/12/Appleseed.jpg
ORGANIZER;CN="Vern Marshall":MAILTO:vern.c.marshall@gmail.com
GEO:-35.255210773981;138.89307976866
X-APPLE-STRUCTURED-LOCATION;VALUE=URI;X-ADDRESS=Appleseed Cafe 30 high street Strathalbyn South Australia 5255 Australia;X-APPLE-RADIUS=500;X-TITLE=30 high street:geo:138.89307976866,-35.255210773981
END:VEVENT
BEGIN:VEVENT
DTSTART;TZID=Australia/Adelaide:20301205T130000
DTEND;TZID=Australia/Adelaide:20301205T143000
DTSTAMP:20260425T055538
CREATED:20250227T053142Z
LAST-MODIFIED:20251106T035704Z
UID:10000896-1922706000-1922711400@adelaidehillsdementia.org
SUMMARY:Strathalbyn Coffee Group
DESCRIPTION:
URL:https://adelaidehillsdementia.org/event/strathalbyn-coffee-group/2030-12-05/
LOCATION:Appleseed Cafe\, 30 high street\, Strathalbyn\, South Australia\, 5255\, Australia
ATTACH;FMTTYPE=image/jpeg:https://adelaidehillsdementia.org/wp-content/uploads/2024/12/Appleseed.jpg
ORGANIZER;CN="Vern Marshall":MAILTO:vern.c.marshall@gmail.com
GEO:-35.255210773981;138.89307976866
X-APPLE-STRUCTURED-LOCATION;VALUE=URI;X-ADDRESS=Appleseed Cafe 30 high street Strathalbyn South Australia 5255 Australia;X-APPLE-RADIUS=500;X-TITLE=30 high street:geo:138.89307976866,-35.255210773981
END:VEVENT
BEGIN:VEVENT
DTSTART;TZID=Australia/Adelaide:20310102T130000
DTEND;TZID=Australia/Adelaide:20310102T143000
DTSTAMP:20260425T055538
CREATED:20250227T053142Z
LAST-MODIFIED:20251106T035704Z
UID:10000970-1925125200-1925130600@adelaidehillsdementia.org
SUMMARY:Strathalbyn Coffee Group
DESCRIPTION:
URL:https://adelaidehillsdementia.org/event/strathalbyn-coffee-group/2031-01-02/
LOCATION:Appleseed Cafe\, 30 high street\, Strathalbyn\, South Australia\, 5255\, Australia
ATTACH;FMTTYPE=image/jpeg:https://adelaidehillsdementia.org/wp-content/uploads/2024/12/Appleseed.jpg
ORGANIZER;CN="Vern Marshall":MAILTO:vern.c.marshall@gmail.com
GEO:-35.255210773981;138.89307976866
X-APPLE-STRUCTURED-LOCATION;VALUE=URI;X-ADDRESS=Appleseed Cafe 30 high street Strathalbyn South Australia 5255 Australia;X-APPLE-RADIUS=500;X-TITLE=30 high street:geo:138.89307976866,-35.255210773981
END:VEVENT
BEGIN:VEVENT
DTSTART;TZID=Australia/Adelaide:20310206T130000
DTEND;TZID=Australia/Adelaide:20310206T143000
DTSTAMP:20260425T055538
CREATED:20250227T053142Z
LAST-MODIFIED:20251106T035704Z
UID:10000983-1928149200-1928154600@adelaidehillsdementia.org
SUMMARY:Strathalbyn Coffee Group
DESCRIPTION:
URL:https://adelaidehillsdementia.org/event/strathalbyn-coffee-group/2031-02-06/
LOCATION:Appleseed Cafe\, 30 high street\, Strathalbyn\, South Australia\, 5255\, Australia
ATTACH;FMTTYPE=image/jpeg:https://adelaidehillsdementia.org/wp-content/uploads/2024/12/Appleseed.jpg
ORGANIZER;CN="Vern Marshall":MAILTO:vern.c.marshall@gmail.com
GEO:-35.255210773981;138.89307976866
X-APPLE-STRUCTURED-LOCATION;VALUE=URI;X-ADDRESS=Appleseed Cafe 30 high street Strathalbyn South Australia 5255 Australia;X-APPLE-RADIUS=500;X-TITLE=30 high street:geo:138.89307976866,-35.255210773981
END:VEVENT
BEGIN:VEVENT
DTSTART;TZID=Australia/Adelaide:20310306T130000
DTEND;TZID=Australia/Adelaide:20310306T143000
DTSTAMP:20260425T055538
CREATED:20250227T053142Z
LAST-MODIFIED:20251106T035704Z
UID:10000986-1930568400-1930573800@adelaidehillsdementia.org
SUMMARY:Strathalbyn Coffee Group
DESCRIPTION:
URL:https://adelaidehillsdementia.org/event/strathalbyn-coffee-group/2031-03-06/
LOCATION:Appleseed Cafe\, 30 high street\, Strathalbyn\, South Australia\, 5255\, Australia
ATTACH;FMTTYPE=image/jpeg:https://adelaidehillsdementia.org/wp-content/uploads/2024/12/Appleseed.jpg
ORGANIZER;CN="Vern Marshall":MAILTO:vern.c.marshall@gmail.com
GEO:-35.255210773981;138.89307976866
X-APPLE-STRUCTURED-LOCATION;VALUE=URI;X-ADDRESS=Appleseed Cafe 30 high street Strathalbyn South Australia 5255 Australia;X-APPLE-RADIUS=500;X-TITLE=30 high street:geo:138.89307976866,-35.255210773981
END:VEVENT
BEGIN:VEVENT
DTSTART;TZID=Australia/Adelaide:20310403T130000
DTEND;TZID=Australia/Adelaide:20310403T143000
DTSTAMP:20260425T055538
CREATED:20250227T053142Z
LAST-MODIFIED:20251106T035704Z
UID:10000987-1932987600-1932993000@adelaidehillsdementia.org
SUMMARY:Strathalbyn Coffee Group
DESCRIPTION:
URL:https://adelaidehillsdementia.org/event/strathalbyn-coffee-group/2031-04-03/
LOCATION:Appleseed Cafe\, 30 high street\, Strathalbyn\, South Australia\, 5255\, Australia
ATTACH;FMTTYPE=image/jpeg:https://adelaidehillsdementia.org/wp-content/uploads/2024/12/Appleseed.jpg
ORGANIZER;CN="Vern Marshall":MAILTO:vern.c.marshall@gmail.com
GEO:-35.255210773981;138.89307976866
X-APPLE-STRUCTURED-LOCATION;VALUE=URI;X-ADDRESS=Appleseed Cafe 30 high street Strathalbyn South Australia 5255 Australia;X-APPLE-RADIUS=500;X-TITLE=30 high street:geo:138.89307976866,-35.255210773981
END:VEVENT
END:VCALENDAR