BEGIN:VCALENDAR
VERSION:2.0
PRODID:-//Adelaide Hills Dementia Carers Social Support Group - ECPv6.15.20//NONSGML v1.0//EN
CALSCALE:GREGORIAN
METHOD:PUBLISH
X-WR-CALNAME:Adelaide Hills Dementia Carers Social Support Group
X-ORIGINAL-URL:https://adelaidehillsdementia.org
X-WR-CALDESC:Events for Adelaide Hills Dementia Carers Social Support Group
REFRESH-INTERVAL;VALUE=DURATION:PT1H
X-Robots-Tag:noindex
X-PUBLISHED-TTL:PT1H
BEGIN:VTIMEZONE
TZID:Australia/Adelaide
BEGIN:STANDARD
TZOFFSETFROM:+1030
TZOFFSETTO:+0930
TZNAME:ACST
DTSTART:20250405T163000
END:STANDARD
BEGIN:DAYLIGHT
TZOFFSETFROM:+0930
TZOFFSETTO:+1030
TZNAME:ACDT
DTSTART:20251004T163000
END:DAYLIGHT
BEGIN:STANDARD
TZOFFSETFROM:+1030
TZOFFSETTO:+0930
TZNAME:ACST
DTSTART:20260404T163000
END:STANDARD
BEGIN:DAYLIGHT
TZOFFSETFROM:+0930
TZOFFSETTO:+1030
TZNAME:ACDT
DTSTART:20261003T163000
END:DAYLIGHT
BEGIN:STANDARD
TZOFFSETFROM:+1030
TZOFFSETTO:+0930
TZNAME:ACST
DTSTART:20270403T163000
END:STANDARD
BEGIN:DAYLIGHT
TZOFFSETFROM:+0930
TZOFFSETTO:+1030
TZNAME:ACDT
DTSTART:20271002T163000
END:DAYLIGHT
END:VTIMEZONE
BEGIN:VEVENT
DTSTART;TZID=Australia/Adelaide:20260507T130000
DTEND;TZID=Australia/Adelaide:20260507T143000
DTSTAMP:20260425T205213
CREATED:20250227T053142Z
LAST-MODIFIED:20251106T035704Z
UID:10000727-1778158800-1778164200@adelaidehillsdementia.org
SUMMARY:Strathalbyn Coffee Group
DESCRIPTION:
URL:https://adelaidehillsdementia.org/event/strathalbyn-coffee-group/2026-05-07/
LOCATION:Appleseed Cafe\, 30 high street\, Strathalbyn\, South Australia\, 5255\, Australia
ATTACH;FMTTYPE=image/jpeg:https://adelaidehillsdementia.org/wp-content/uploads/2024/12/Appleseed.jpg
ORGANIZER;CN="Vern Marshall":MAILTO:vern.c.marshall@gmail.com
GEO:-35.255210773981;138.89307976866
X-APPLE-STRUCTURED-LOCATION;VALUE=URI;X-ADDRESS=Appleseed Cafe 30 high street Strathalbyn South Australia 5255 Australia;X-APPLE-RADIUS=500;X-TITLE=30 high street:geo:138.89307976866,-35.255210773981
END:VEVENT
BEGIN:VEVENT
DTSTART;TZID=Australia/Adelaide:20260423T123000
DTEND;TZID=Australia/Adelaide:20260423T143000
DTSTAMP:20260425T205213
CREATED:20260305T042635Z
LAST-MODIFIED:20260420T025606Z
UID:10000982-1776947400-1776954600@adelaidehillsdementia.org
SUMMARY:Lunch - The Barker Hotel
DESCRIPTION:
URL:https://adelaidehillsdementia.org/event/lunch-the-barker-hotel/
LOCATION:The Barker Hotel\, 32 Gawler Street\, Mount Barker\, South Australia\, 5251\, Australia
ATTACH;FMTTYPE=image/webp:https://adelaidehillsdementia.org/wp-content/uploads/2025/10/The-Barker-Hotel-web.webp
ORGANIZER;CN="Vern Marshall":MAILTO:vern.c.marshall@gmail.com
GEO:-35.06704058351;138.859057284
X-APPLE-STRUCTURED-LOCATION;VALUE=URI;X-ADDRESS=The Barker Hotel 32 Gawler Street Mount Barker South Australia 5251 Australia;X-APPLE-RADIUS=500;X-TITLE=32 Gawler Street:geo:138.859057284,-35.06704058351
END:VEVENT
BEGIN:VEVENT
DTSTART;TZID=Australia/Adelaide:20260416T103000
DTEND;TZID=Australia/Adelaide:20260416T120000
DTSTAMP:20260425T205213
CREATED:20250207T012402Z
LAST-MODIFIED:20250207T012403Z
UID:10000443-1776335400-1776340800@adelaidehillsdementia.org
SUMMARY:Mount Barker Coffee Group
DESCRIPTION:
URL:https://adelaidehillsdementia.org/event/mount-barker-coffee-group/2026-04-16/
LOCATION:Mount Barker Community Centre (Auchendarroch complex)\, 3 Dumas St\, Mount Barker\, South Australia\, 5251\, Australia
ATTACH;FMTTYPE=image/jpeg:https://adelaidehillsdementia.org/wp-content/uploads/2024/12/Mount-Barker-Community-Centre.jpg
ORGANIZER;CN="Vern Marshall":MAILTO:vern.c.marshall@gmail.com
GEO:-35.068749821661;138.85524075886
X-APPLE-STRUCTURED-LOCATION;VALUE=URI;X-ADDRESS=Mount Barker Community Centre (Auchendarroch complex) 3 Dumas St Mount Barker South Australia 5251 Australia;X-APPLE-RADIUS=500;X-TITLE=3 Dumas St:geo:138.85524075886,-35.068749821661
END:VEVENT
BEGIN:VEVENT
DTSTART;TZID=Australia/Adelaide:20260402T130000
DTEND;TZID=Australia/Adelaide:20260402T143000
DTSTAMP:20260425T205213
CREATED:20250227T053142Z
LAST-MODIFIED:20251106T035704Z
UID:10000726-1775134800-1775140200@adelaidehillsdementia.org
SUMMARY:Strathalbyn Coffee Group
DESCRIPTION:
URL:https://adelaidehillsdementia.org/event/strathalbyn-coffee-group/2026-04-02/
LOCATION:Appleseed Cafe\, 30 high street\, Strathalbyn\, South Australia\, 5255\, Australia
ATTACH;FMTTYPE=image/jpeg:https://adelaidehillsdementia.org/wp-content/uploads/2024/12/Appleseed.jpg
ORGANIZER;CN="Vern Marshall":MAILTO:vern.c.marshall@gmail.com
GEO:-35.255210773981;138.89307976866
X-APPLE-STRUCTURED-LOCATION;VALUE=URI;X-ADDRESS=Appleseed Cafe 30 high street Strathalbyn South Australia 5255 Australia;X-APPLE-RADIUS=500;X-TITLE=30 high street:geo:138.89307976866,-35.255210773981
END:VEVENT
END:VCALENDAR