BEGIN:VCALENDAR
VERSION:2.0
PRODID:-//Adelaide Hills Dementia Carers Social Support Group - ECPv6.15.20//NONSGML v1.0//EN
CALSCALE:GREGORIAN
METHOD:PUBLISH
X-WR-CALNAME:Adelaide Hills Dementia Carers Social Support Group
X-ORIGINAL-URL:https://adelaidehillsdementia.org
X-WR-CALDESC:Events for Adelaide Hills Dementia Carers Social Support Group
REFRESH-INTERVAL;VALUE=DURATION:PT1H
X-Robots-Tag:noindex
X-PUBLISHED-TTL:PT1H
BEGIN:VTIMEZONE
TZID:Australia/Adelaide
BEGIN:STANDARD
TZOFFSETFROM:+1030
TZOFFSETTO:+0930
TZNAME:ACST
DTSTART:20260404T163000
END:STANDARD
BEGIN:DAYLIGHT
TZOFFSETFROM:+0930
TZOFFSETTO:+1030
TZNAME:ACDT
DTSTART:20261003T163000
END:DAYLIGHT
BEGIN:STANDARD
TZOFFSETFROM:+1030
TZOFFSETTO:+0930
TZNAME:ACST
DTSTART:20270403T163000
END:STANDARD
BEGIN:DAYLIGHT
TZOFFSETFROM:+0930
TZOFFSETTO:+1030
TZNAME:ACDT
DTSTART:20271002T163000
END:DAYLIGHT
BEGIN:STANDARD
TZOFFSETFROM:+1030
TZOFFSETTO:+0930
TZNAME:ACST
DTSTART:20280401T163000
END:STANDARD
BEGIN:DAYLIGHT
TZOFFSETFROM:+0930
TZOFFSETTO:+1030
TZNAME:ACDT
DTSTART:20280930T163000
END:DAYLIGHT
BEGIN:STANDARD
TZOFFSETFROM:+1030
TZOFFSETTO:+0930
TZNAME:ACST
DTSTART:20290331T163000
END:STANDARD
BEGIN:DAYLIGHT
TZOFFSETFROM:+0930
TZOFFSETTO:+1030
TZNAME:ACDT
DTSTART:20291006T163000
END:DAYLIGHT
END:VTIMEZONE
BEGIN:VEVENT
DTSTART;TZID=Australia/Adelaide:20270304T130000
DTEND;TZID=Australia/Adelaide:20270304T143000
DTSTAMP:20260426T001927
CREATED:20250227T053142Z
LAST-MODIFIED:20251106T035704Z
UID:10000737-1804165200-1804170600@adelaidehillsdementia.org
SUMMARY:Strathalbyn Coffee Group
DESCRIPTION:
URL:https://adelaidehillsdementia.org/event/strathalbyn-coffee-group/2027-03-04/
LOCATION:Appleseed Cafe\, 30 high street\, Strathalbyn\, South Australia\, 5255\, Australia
ATTACH;FMTTYPE=image/jpeg:https://adelaidehillsdementia.org/wp-content/uploads/2024/12/Appleseed.jpg
ORGANIZER;CN="Vern Marshall":MAILTO:vern.c.marshall@gmail.com
GEO:-35.255210773981;138.89307976866
X-APPLE-STRUCTURED-LOCATION;VALUE=URI;X-ADDRESS=Appleseed Cafe 30 high street Strathalbyn South Australia 5255 Australia;X-APPLE-RADIUS=500;X-TITLE=30 high street:geo:138.89307976866,-35.255210773981
END:VEVENT
BEGIN:VEVENT
DTSTART;TZID=Australia/Adelaide:20270311T180000
DTEND;TZID=Australia/Adelaide:20270311T203000
DTSTAMP:20260426T001927
CREATED:20260305T041251Z
LAST-MODIFIED:20260305T041253Z
UID:10000981-1804788000-1804797000@adelaidehillsdementia.org
SUMMARY:Dinner - Venue to be announced
DESCRIPTION:
URL:https://adelaidehillsdementia.org/event/dinner-venue-to-be-announced-8/
LOCATION:To Be Announced\, Adelaide Hills\, South Australia\, Australia
ATTACH;FMTTYPE=image/webp:https://adelaidehillsdementia.org/wp-content/uploads/2025/09/Venue-TBA-web.webp
END:VEVENT
BEGIN:VEVENT
DTSTART;TZID=Australia/Adelaide:20270318T103000
DTEND;TZID=Australia/Adelaide:20270318T120000
DTSTAMP:20260426T001927
CREATED:20250207T012402Z
LAST-MODIFIED:20250207T012403Z
UID:10000454-1805365800-1805371200@adelaidehillsdementia.org
SUMMARY:Mount Barker Coffee Group
DESCRIPTION:
URL:https://adelaidehillsdementia.org/event/mount-barker-coffee-group/2027-03-18/
LOCATION:Mount Barker Community Centre (Auchendarroch complex)\, 3 Dumas St\, Mount Barker\, South Australia\, 5251\, Australia
ATTACH;FMTTYPE=image/jpeg:https://adelaidehillsdementia.org/wp-content/uploads/2024/12/Mount-Barker-Community-Centre.jpg
ORGANIZER;CN="Vern Marshall":MAILTO:vern.c.marshall@gmail.com
GEO:-35.068749821661;138.85524075886
X-APPLE-STRUCTURED-LOCATION;VALUE=URI;X-ADDRESS=Mount Barker Community Centre (Auchendarroch complex) 3 Dumas St Mount Barker South Australia 5251 Australia;X-APPLE-RADIUS=500;X-TITLE=3 Dumas St:geo:138.85524075886,-35.068749821661
END:VEVENT
BEGIN:VEVENT
DTSTART;TZID=Australia/Adelaide:20270325T123000
DTEND;TZID=Australia/Adelaide:20270325T143000
DTSTAMP:20260426T001927
CREATED:20250307T033111Z
LAST-MODIFIED:20260305T042934Z
UID:10000826-1805977800-1805985000@adelaidehillsdementia.org
SUMMARY:Lunch - Venue to be announced
DESCRIPTION:
URL:https://adelaidehillsdementia.org/event/lunch-venue-to-be-announced/
LOCATION:To Be Announced\, Adelaide Hills\, South Australia\, Australia
ATTACH;FMTTYPE=image/webp:https://adelaidehillsdementia.org/wp-content/uploads/2025/09/Venue-TBA-web.webp
ORGANIZER;CN="Vern Marshall":MAILTO:vern.c.marshall@gmail.com
END:VEVENT
BEGIN:VEVENT
DTSTART;TZID=Australia/Adelaide:20270401T130000
DTEND;TZID=Australia/Adelaide:20270401T143000
DTSTAMP:20260426T001927
CREATED:20250227T053142Z
LAST-MODIFIED:20251106T035704Z
UID:10000738-1806584400-1806589800@adelaidehillsdementia.org
SUMMARY:Strathalbyn Coffee Group
DESCRIPTION:
URL:https://adelaidehillsdementia.org/event/strathalbyn-coffee-group/2027-04-01/
LOCATION:Appleseed Cafe\, 30 high street\, Strathalbyn\, South Australia\, 5255\, Australia
ATTACH;FMTTYPE=image/jpeg:https://adelaidehillsdementia.org/wp-content/uploads/2024/12/Appleseed.jpg
ORGANIZER;CN="Vern Marshall":MAILTO:vern.c.marshall@gmail.com
GEO:-35.255210773981;138.89307976866
X-APPLE-STRUCTURED-LOCATION;VALUE=URI;X-ADDRESS=Appleseed Cafe 30 high street Strathalbyn South Australia 5255 Australia;X-APPLE-RADIUS=500;X-TITLE=30 high street:geo:138.89307976866,-35.255210773981
END:VEVENT
BEGIN:VEVENT
DTSTART;TZID=Australia/Adelaide:20270408T180000
DTEND;TZID=Australia/Adelaide:20270408T203000
DTSTAMP:20260426T001927
CREATED:20260324T005309Z
LAST-MODIFIED:20260324T005311Z
UID:10000985-1807207200-1807216200@adelaidehillsdementia.org
SUMMARY:Dinner - Venue to be announced
DESCRIPTION:
URL:https://adelaidehillsdementia.org/event/dinner-venue-to-be-announced-10/
LOCATION:To Be Announced\, Adelaide Hills\, South Australia\, Australia
ATTACH;FMTTYPE=image/webp:https://adelaidehillsdementia.org/wp-content/uploads/2025/09/Venue-TBA-web.webp
ORGANIZER;CN="Vern Marshall":MAILTO:vern.c.marshall@gmail.com
END:VEVENT
BEGIN:VEVENT
DTSTART;TZID=Australia/Adelaide:20270415T103000
DTEND;TZID=Australia/Adelaide:20270415T120000
DTSTAMP:20260426T001927
CREATED:20250207T012402Z
LAST-MODIFIED:20250207T012403Z
UID:10000455-1807785000-1807790400@adelaidehillsdementia.org
SUMMARY:Mount Barker Coffee Group
DESCRIPTION:
URL:https://adelaidehillsdementia.org/event/mount-barker-coffee-group/2027-04-15/
LOCATION:Mount Barker Community Centre (Auchendarroch complex)\, 3 Dumas St\, Mount Barker\, South Australia\, 5251\, Australia
ATTACH;FMTTYPE=image/jpeg:https://adelaidehillsdementia.org/wp-content/uploads/2024/12/Mount-Barker-Community-Centre.jpg
ORGANIZER;CN="Vern Marshall":MAILTO:vern.c.marshall@gmail.com
GEO:-35.068749821661;138.85524075886
X-APPLE-STRUCTURED-LOCATION;VALUE=URI;X-ADDRESS=Mount Barker Community Centre (Auchendarroch complex) 3 Dumas St Mount Barker South Australia 5251 Australia;X-APPLE-RADIUS=500;X-TITLE=3 Dumas St:geo:138.85524075886,-35.068749821661
END:VEVENT
BEGIN:VEVENT
DTSTART;TZID=Australia/Adelaide:20270506T130000
DTEND;TZID=Australia/Adelaide:20270506T143000
DTSTAMP:20260426T001927
CREATED:20250227T053142Z
LAST-MODIFIED:20251106T035704Z
UID:10000739-1809608400-1809613800@adelaidehillsdementia.org
SUMMARY:Strathalbyn Coffee Group
DESCRIPTION:
URL:https://adelaidehillsdementia.org/event/strathalbyn-coffee-group/2027-05-06/
LOCATION:Appleseed Cafe\, 30 high street\, Strathalbyn\, South Australia\, 5255\, Australia
ATTACH;FMTTYPE=image/jpeg:https://adelaidehillsdementia.org/wp-content/uploads/2024/12/Appleseed.jpg
ORGANIZER;CN="Vern Marshall":MAILTO:vern.c.marshall@gmail.com
GEO:-35.255210773981;138.89307976866
X-APPLE-STRUCTURED-LOCATION;VALUE=URI;X-ADDRESS=Appleseed Cafe 30 high street Strathalbyn South Australia 5255 Australia;X-APPLE-RADIUS=500;X-TITLE=30 high street:geo:138.89307976866,-35.255210773981
END:VEVENT
BEGIN:VEVENT
DTSTART;TZID=Australia/Adelaide:20270513T180000
DTEND;TZID=Australia/Adelaide:20270513T203000
DTSTAMP:20260426T001927
CREATED:20250321T014405Z
LAST-MODIFIED:20260408T080452Z
UID:10000841-1810231200-1810240200@adelaidehillsdementia.org
SUMMARY:Dinner - Venue to be announced
DESCRIPTION:
URL:https://adelaidehillsdementia.org/event/dinner-venue-to-be-announced/
LOCATION:To Be Announced\, Adelaide Hills\, South Australia\, Australia
ATTACH;FMTTYPE=image/webp:https://adelaidehillsdementia.org/wp-content/uploads/2025/09/Venue-TBA-web.webp
END:VEVENT
BEGIN:VEVENT
DTSTART;TZID=Australia/Adelaide:20270520T103000
DTEND;TZID=Australia/Adelaide:20270520T120000
DTSTAMP:20260426T001927
CREATED:20250207T012402Z
LAST-MODIFIED:20250207T012403Z
UID:10000456-1810809000-1810814400@adelaidehillsdementia.org
SUMMARY:Mount Barker Coffee Group
DESCRIPTION:
URL:https://adelaidehillsdementia.org/event/mount-barker-coffee-group/2027-05-20/
LOCATION:Mount Barker Community Centre (Auchendarroch complex)\, 3 Dumas St\, Mount Barker\, South Australia\, 5251\, Australia
ATTACH;FMTTYPE=image/jpeg:https://adelaidehillsdementia.org/wp-content/uploads/2024/12/Mount-Barker-Community-Centre.jpg
ORGANIZER;CN="Vern Marshall":MAILTO:vern.c.marshall@gmail.com
GEO:-35.068749821661;138.85524075886
X-APPLE-STRUCTURED-LOCATION;VALUE=URI;X-ADDRESS=Mount Barker Community Centre (Auchendarroch complex) 3 Dumas St Mount Barker South Australia 5251 Australia;X-APPLE-RADIUS=500;X-TITLE=3 Dumas St:geo:138.85524075886,-35.068749821661
END:VEVENT
BEGIN:VEVENT
DTSTART;TZID=Australia/Adelaide:20270603T130000
DTEND;TZID=Australia/Adelaide:20270603T143000
DTSTAMP:20260426T001927
CREATED:20250227T053142Z
LAST-MODIFIED:20251106T035704Z
UID:10000740-1812027600-1812033000@adelaidehillsdementia.org
SUMMARY:Strathalbyn Coffee Group
DESCRIPTION:
URL:https://adelaidehillsdementia.org/event/strathalbyn-coffee-group/2027-06-03/
LOCATION:Appleseed Cafe\, 30 high street\, Strathalbyn\, South Australia\, 5255\, Australia
ATTACH;FMTTYPE=image/jpeg:https://adelaidehillsdementia.org/wp-content/uploads/2024/12/Appleseed.jpg
ORGANIZER;CN="Vern Marshall":MAILTO:vern.c.marshall@gmail.com
GEO:-35.255210773981;138.89307976866
X-APPLE-STRUCTURED-LOCATION;VALUE=URI;X-ADDRESS=Appleseed Cafe 30 high street Strathalbyn South Australia 5255 Australia;X-APPLE-RADIUS=500;X-TITLE=30 high street:geo:138.89307976866,-35.255210773981
END:VEVENT
BEGIN:VEVENT
DTSTART;TZID=Australia/Adelaide:20270617T103000
DTEND;TZID=Australia/Adelaide:20270617T120000
DTSTAMP:20260426T001927
CREATED:20250207T012402Z
LAST-MODIFIED:20250207T012403Z
UID:10000457-1813228200-1813233600@adelaidehillsdementia.org
SUMMARY:Mount Barker Coffee Group
DESCRIPTION:
URL:https://adelaidehillsdementia.org/event/mount-barker-coffee-group/2027-06-17/
LOCATION:Mount Barker Community Centre (Auchendarroch complex)\, 3 Dumas St\, Mount Barker\, South Australia\, 5251\, Australia
ATTACH;FMTTYPE=image/jpeg:https://adelaidehillsdementia.org/wp-content/uploads/2024/12/Mount-Barker-Community-Centre.jpg
ORGANIZER;CN="Vern Marshall":MAILTO:vern.c.marshall@gmail.com
GEO:-35.068749821661;138.85524075886
X-APPLE-STRUCTURED-LOCATION;VALUE=URI;X-ADDRESS=Mount Barker Community Centre (Auchendarroch complex) 3 Dumas St Mount Barker South Australia 5251 Australia;X-APPLE-RADIUS=500;X-TITLE=3 Dumas St:geo:138.85524075886,-35.068749821661
END:VEVENT
BEGIN:VEVENT
DTSTART;TZID=Australia/Adelaide:20270701T130000
DTEND;TZID=Australia/Adelaide:20270701T143000
DTSTAMP:20260426T001927
CREATED:20250227T053142Z
LAST-MODIFIED:20251106T035704Z
UID:10000741-1814446800-1814452200@adelaidehillsdementia.org
SUMMARY:Strathalbyn Coffee Group
DESCRIPTION:
URL:https://adelaidehillsdementia.org/event/strathalbyn-coffee-group/2027-07-01/
LOCATION:Appleseed Cafe\, 30 high street\, Strathalbyn\, South Australia\, 5255\, Australia
ATTACH;FMTTYPE=image/jpeg:https://adelaidehillsdementia.org/wp-content/uploads/2024/12/Appleseed.jpg
ORGANIZER;CN="Vern Marshall":MAILTO:vern.c.marshall@gmail.com
GEO:-35.255210773981;138.89307976866
X-APPLE-STRUCTURED-LOCATION;VALUE=URI;X-ADDRESS=Appleseed Cafe 30 high street Strathalbyn South Australia 5255 Australia;X-APPLE-RADIUS=500;X-TITLE=30 high street:geo:138.89307976866,-35.255210773981
END:VEVENT
BEGIN:VEVENT
DTSTART;TZID=Australia/Adelaide:20270715T103000
DTEND;TZID=Australia/Adelaide:20270715T120000
DTSTAMP:20260426T001927
CREATED:20250207T012402Z
LAST-MODIFIED:20250207T012403Z
UID:10000458-1815647400-1815652800@adelaidehillsdementia.org
SUMMARY:Mount Barker Coffee Group
DESCRIPTION:
URL:https://adelaidehillsdementia.org/event/mount-barker-coffee-group/2027-07-15/
LOCATION:Mount Barker Community Centre (Auchendarroch complex)\, 3 Dumas St\, Mount Barker\, South Australia\, 5251\, Australia
ATTACH;FMTTYPE=image/jpeg:https://adelaidehillsdementia.org/wp-content/uploads/2024/12/Mount-Barker-Community-Centre.jpg
ORGANIZER;CN="Vern Marshall":MAILTO:vern.c.marshall@gmail.com
GEO:-35.068749821661;138.85524075886
X-APPLE-STRUCTURED-LOCATION;VALUE=URI;X-ADDRESS=Mount Barker Community Centre (Auchendarroch complex) 3 Dumas St Mount Barker South Australia 5251 Australia;X-APPLE-RADIUS=500;X-TITLE=3 Dumas St:geo:138.85524075886,-35.068749821661
END:VEVENT
BEGIN:VEVENT
DTSTART;TZID=Australia/Adelaide:20270805T130000
DTEND;TZID=Australia/Adelaide:20270805T143000
DTSTAMP:20260426T001927
CREATED:20250227T053142Z
LAST-MODIFIED:20251106T035704Z
UID:10000742-1817470800-1817476200@adelaidehillsdementia.org
SUMMARY:Strathalbyn Coffee Group
DESCRIPTION:
URL:https://adelaidehillsdementia.org/event/strathalbyn-coffee-group/2027-08-05/
LOCATION:Appleseed Cafe\, 30 high street\, Strathalbyn\, South Australia\, 5255\, Australia
ATTACH;FMTTYPE=image/jpeg:https://adelaidehillsdementia.org/wp-content/uploads/2024/12/Appleseed.jpg
ORGANIZER;CN="Vern Marshall":MAILTO:vern.c.marshall@gmail.com
GEO:-35.255210773981;138.89307976866
X-APPLE-STRUCTURED-LOCATION;VALUE=URI;X-ADDRESS=Appleseed Cafe 30 high street Strathalbyn South Australia 5255 Australia;X-APPLE-RADIUS=500;X-TITLE=30 high street:geo:138.89307976866,-35.255210773981
END:VEVENT
BEGIN:VEVENT
DTSTART;TZID=Australia/Adelaide:20270819T103000
DTEND;TZID=Australia/Adelaide:20270819T120000
DTSTAMP:20260426T001927
CREATED:20250207T012402Z
LAST-MODIFIED:20250207T012403Z
UID:10000459-1818671400-1818676800@adelaidehillsdementia.org
SUMMARY:Mount Barker Coffee Group
DESCRIPTION:
URL:https://adelaidehillsdementia.org/event/mount-barker-coffee-group/2027-08-19/
LOCATION:Mount Barker Community Centre (Auchendarroch complex)\, 3 Dumas St\, Mount Barker\, South Australia\, 5251\, Australia
ATTACH;FMTTYPE=image/jpeg:https://adelaidehillsdementia.org/wp-content/uploads/2024/12/Mount-Barker-Community-Centre.jpg
ORGANIZER;CN="Vern Marshall":MAILTO:vern.c.marshall@gmail.com
GEO:-35.068749821661;138.85524075886
X-APPLE-STRUCTURED-LOCATION;VALUE=URI;X-ADDRESS=Mount Barker Community Centre (Auchendarroch complex) 3 Dumas St Mount Barker South Australia 5251 Australia;X-APPLE-RADIUS=500;X-TITLE=3 Dumas St:geo:138.85524075886,-35.068749821661
END:VEVENT
BEGIN:VEVENT
DTSTART;TZID=Australia/Adelaide:20270902T130000
DTEND;TZID=Australia/Adelaide:20270902T143000
DTSTAMP:20260426T001927
CREATED:20250227T053142Z
LAST-MODIFIED:20251106T035704Z
UID:10000743-1819890000-1819895400@adelaidehillsdementia.org
SUMMARY:Strathalbyn Coffee Group
DESCRIPTION:
URL:https://adelaidehillsdementia.org/event/strathalbyn-coffee-group/2027-09-02/
LOCATION:Appleseed Cafe\, 30 high street\, Strathalbyn\, South Australia\, 5255\, Australia
ATTACH;FMTTYPE=image/jpeg:https://adelaidehillsdementia.org/wp-content/uploads/2024/12/Appleseed.jpg
ORGANIZER;CN="Vern Marshall":MAILTO:vern.c.marshall@gmail.com
GEO:-35.255210773981;138.89307976866
X-APPLE-STRUCTURED-LOCATION;VALUE=URI;X-ADDRESS=Appleseed Cafe 30 high street Strathalbyn South Australia 5255 Australia;X-APPLE-RADIUS=500;X-TITLE=30 high street:geo:138.89307976866,-35.255210773981
END:VEVENT
BEGIN:VEVENT
DTSTART;TZID=Australia/Adelaide:20270916T103000
DTEND;TZID=Australia/Adelaide:20270916T120000
DTSTAMP:20260426T001927
CREATED:20250207T012402Z
LAST-MODIFIED:20250207T012403Z
UID:10000460-1821090600-1821096000@adelaidehillsdementia.org
SUMMARY:Mount Barker Coffee Group
DESCRIPTION:
URL:https://adelaidehillsdementia.org/event/mount-barker-coffee-group/2027-09-16/
LOCATION:Mount Barker Community Centre (Auchendarroch complex)\, 3 Dumas St\, Mount Barker\, South Australia\, 5251\, Australia
ATTACH;FMTTYPE=image/jpeg:https://adelaidehillsdementia.org/wp-content/uploads/2024/12/Mount-Barker-Community-Centre.jpg
ORGANIZER;CN="Vern Marshall":MAILTO:vern.c.marshall@gmail.com
GEO:-35.068749821661;138.85524075886
X-APPLE-STRUCTURED-LOCATION;VALUE=URI;X-ADDRESS=Mount Barker Community Centre (Auchendarroch complex) 3 Dumas St Mount Barker South Australia 5251 Australia;X-APPLE-RADIUS=500;X-TITLE=3 Dumas St:geo:138.85524075886,-35.068749821661
END:VEVENT
BEGIN:VEVENT
DTSTART;TZID=Australia/Adelaide:20271007T130000
DTEND;TZID=Australia/Adelaide:20271007T143000
DTSTAMP:20260426T001927
CREATED:20250227T053142Z
LAST-MODIFIED:20251106T035704Z
UID:10000744-1822914000-1822919400@adelaidehillsdementia.org
SUMMARY:Strathalbyn Coffee Group
DESCRIPTION:
URL:https://adelaidehillsdementia.org/event/strathalbyn-coffee-group/2027-10-07/
LOCATION:Appleseed Cafe\, 30 high street\, Strathalbyn\, South Australia\, 5255\, Australia
ATTACH;FMTTYPE=image/jpeg:https://adelaidehillsdementia.org/wp-content/uploads/2024/12/Appleseed.jpg
ORGANIZER;CN="Vern Marshall":MAILTO:vern.c.marshall@gmail.com
GEO:-35.255210773981;138.89307976866
X-APPLE-STRUCTURED-LOCATION;VALUE=URI;X-ADDRESS=Appleseed Cafe 30 high street Strathalbyn South Australia 5255 Australia;X-APPLE-RADIUS=500;X-TITLE=30 high street:geo:138.89307976866,-35.255210773981
END:VEVENT
BEGIN:VEVENT
DTSTART;TZID=Australia/Adelaide:20271021T103000
DTEND;TZID=Australia/Adelaide:20271021T120000
DTSTAMP:20260426T001927
CREATED:20250207T012402Z
LAST-MODIFIED:20250207T012403Z
UID:10000461-1824114600-1824120000@adelaidehillsdementia.org
SUMMARY:Mount Barker Coffee Group
DESCRIPTION:
URL:https://adelaidehillsdementia.org/event/mount-barker-coffee-group/2027-10-21/
LOCATION:Mount Barker Community Centre (Auchendarroch complex)\, 3 Dumas St\, Mount Barker\, South Australia\, 5251\, Australia
ATTACH;FMTTYPE=image/jpeg:https://adelaidehillsdementia.org/wp-content/uploads/2024/12/Mount-Barker-Community-Centre.jpg
ORGANIZER;CN="Vern Marshall":MAILTO:vern.c.marshall@gmail.com
GEO:-35.068749821661;138.85524075886
X-APPLE-STRUCTURED-LOCATION;VALUE=URI;X-ADDRESS=Mount Barker Community Centre (Auchendarroch complex) 3 Dumas St Mount Barker South Australia 5251 Australia;X-APPLE-RADIUS=500;X-TITLE=3 Dumas St:geo:138.85524075886,-35.068749821661
END:VEVENT
BEGIN:VEVENT
DTSTART;TZID=Australia/Adelaide:20271104T130000
DTEND;TZID=Australia/Adelaide:20271104T143000
DTSTAMP:20260426T001927
CREATED:20250227T053142Z
LAST-MODIFIED:20251106T035704Z
UID:10000745-1825333200-1825338600@adelaidehillsdementia.org
SUMMARY:Strathalbyn Coffee Group
DESCRIPTION:
URL:https://adelaidehillsdementia.org/event/strathalbyn-coffee-group/2027-11-04/
LOCATION:Appleseed Cafe\, 30 high street\, Strathalbyn\, South Australia\, 5255\, Australia
ATTACH;FMTTYPE=image/jpeg:https://adelaidehillsdementia.org/wp-content/uploads/2024/12/Appleseed.jpg
ORGANIZER;CN="Vern Marshall":MAILTO:vern.c.marshall@gmail.com
GEO:-35.255210773981;138.89307976866
X-APPLE-STRUCTURED-LOCATION;VALUE=URI;X-ADDRESS=Appleseed Cafe 30 high street Strathalbyn South Australia 5255 Australia;X-APPLE-RADIUS=500;X-TITLE=30 high street:geo:138.89307976866,-35.255210773981
END:VEVENT
BEGIN:VEVENT
DTSTART;TZID=Australia/Adelaide:20271118T103000
DTEND;TZID=Australia/Adelaide:20271118T120000
DTSTAMP:20260426T001927
CREATED:20250207T012402Z
LAST-MODIFIED:20250207T012403Z
UID:10000462-1826533800-1826539200@adelaidehillsdementia.org
SUMMARY:Mount Barker Coffee Group
DESCRIPTION:
URL:https://adelaidehillsdementia.org/event/mount-barker-coffee-group/2027-11-18/
LOCATION:Mount Barker Community Centre (Auchendarroch complex)\, 3 Dumas St\, Mount Barker\, South Australia\, 5251\, Australia
ATTACH;FMTTYPE=image/jpeg:https://adelaidehillsdementia.org/wp-content/uploads/2024/12/Mount-Barker-Community-Centre.jpg
ORGANIZER;CN="Vern Marshall":MAILTO:vern.c.marshall@gmail.com
GEO:-35.068749821661;138.85524075886
X-APPLE-STRUCTURED-LOCATION;VALUE=URI;X-ADDRESS=Mount Barker Community Centre (Auchendarroch complex) 3 Dumas St Mount Barker South Australia 5251 Australia;X-APPLE-RADIUS=500;X-TITLE=3 Dumas St:geo:138.85524075886,-35.068749821661
END:VEVENT
BEGIN:VEVENT
DTSTART;TZID=Australia/Adelaide:20271202T130000
DTEND;TZID=Australia/Adelaide:20271202T143000
DTSTAMP:20260426T001927
CREATED:20250227T053142Z
LAST-MODIFIED:20251106T035704Z
UID:10000746-1827752400-1827757800@adelaidehillsdementia.org
SUMMARY:Strathalbyn Coffee Group
DESCRIPTION:
URL:https://adelaidehillsdementia.org/event/strathalbyn-coffee-group/2027-12-02/
LOCATION:Appleseed Cafe\, 30 high street\, Strathalbyn\, South Australia\, 5255\, Australia
ATTACH;FMTTYPE=image/jpeg:https://adelaidehillsdementia.org/wp-content/uploads/2024/12/Appleseed.jpg
ORGANIZER;CN="Vern Marshall":MAILTO:vern.c.marshall@gmail.com
GEO:-35.255210773981;138.89307976866
X-APPLE-STRUCTURED-LOCATION;VALUE=URI;X-ADDRESS=Appleseed Cafe 30 high street Strathalbyn South Australia 5255 Australia;X-APPLE-RADIUS=500;X-TITLE=30 high street:geo:138.89307976866,-35.255210773981
END:VEVENT
BEGIN:VEVENT
DTSTART;TZID=Australia/Adelaide:20271216T103000
DTEND;TZID=Australia/Adelaide:20271216T120000
DTSTAMP:20260426T001927
CREATED:20250207T012402Z
LAST-MODIFIED:20250207T012403Z
UID:10000463-1828953000-1828958400@adelaidehillsdementia.org
SUMMARY:Mount Barker Coffee Group
DESCRIPTION:
URL:https://adelaidehillsdementia.org/event/mount-barker-coffee-group/2027-12-16/
LOCATION:Mount Barker Community Centre (Auchendarroch complex)\, 3 Dumas St\, Mount Barker\, South Australia\, 5251\, Australia
ATTACH;FMTTYPE=image/jpeg:https://adelaidehillsdementia.org/wp-content/uploads/2024/12/Mount-Barker-Community-Centre.jpg
ORGANIZER;CN="Vern Marshall":MAILTO:vern.c.marshall@gmail.com
GEO:-35.068749821661;138.85524075886
X-APPLE-STRUCTURED-LOCATION;VALUE=URI;X-ADDRESS=Mount Barker Community Centre (Auchendarroch complex) 3 Dumas St Mount Barker South Australia 5251 Australia;X-APPLE-RADIUS=500;X-TITLE=3 Dumas St:geo:138.85524075886,-35.068749821661
END:VEVENT
BEGIN:VEVENT
DTSTART;TZID=Australia/Adelaide:20271225T000000
DTEND;TZID=Australia/Adelaide:20271225T235959
DTSTAMP:20260426T001927
CREATED:20251223T070312Z
LAST-MODIFIED:20251223T070314Z
UID:10000967-1829692800-1829779199@adelaidehillsdementia.org
SUMMARY:Merry Christmas
DESCRIPTION:
URL:https://adelaidehillsdementia.org/event/merry-christmas/2027-12-25/
LOCATION:South Australia
ATTACH;FMTTYPE=image/webp:https://adelaidehillsdementia.org/wp-content/uploads/2025/12/Santa-alpacas.webp
END:VEVENT
BEGIN:VEVENT
DTSTART;TZID=Australia/Adelaide:20280106T130000
DTEND;TZID=Australia/Adelaide:20280106T143000
DTSTAMP:20260426T001927
CREATED:20250227T053142Z
LAST-MODIFIED:20251106T035704Z
UID:10000747-1830776400-1830781800@adelaidehillsdementia.org
SUMMARY:Strathalbyn Coffee Group
DESCRIPTION:
URL:https://adelaidehillsdementia.org/event/strathalbyn-coffee-group/2028-01-06/
LOCATION:Appleseed Cafe\, 30 high street\, Strathalbyn\, South Australia\, 5255\, Australia
ATTACH;FMTTYPE=image/jpeg:https://adelaidehillsdementia.org/wp-content/uploads/2024/12/Appleseed.jpg
ORGANIZER;CN="Vern Marshall":MAILTO:vern.c.marshall@gmail.com
GEO:-35.255210773981;138.89307976866
X-APPLE-STRUCTURED-LOCATION;VALUE=URI;X-ADDRESS=Appleseed Cafe 30 high street Strathalbyn South Australia 5255 Australia;X-APPLE-RADIUS=500;X-TITLE=30 high street:geo:138.89307976866,-35.255210773981
END:VEVENT
BEGIN:VEVENT
DTSTART;TZID=Australia/Adelaide:20280120T103000
DTEND;TZID=Australia/Adelaide:20280120T120000
DTSTAMP:20260426T001927
CREATED:20250207T012402Z
LAST-MODIFIED:20250207T012403Z
UID:10000464-1831977000-1831982400@adelaidehillsdementia.org
SUMMARY:Mount Barker Coffee Group
DESCRIPTION:
URL:https://adelaidehillsdementia.org/event/mount-barker-coffee-group/2028-01-20/
LOCATION:Mount Barker Community Centre (Auchendarroch complex)\, 3 Dumas St\, Mount Barker\, South Australia\, 5251\, Australia
ATTACH;FMTTYPE=image/jpeg:https://adelaidehillsdementia.org/wp-content/uploads/2024/12/Mount-Barker-Community-Centre.jpg
ORGANIZER;CN="Vern Marshall":MAILTO:vern.c.marshall@gmail.com
GEO:-35.068749821661;138.85524075886
X-APPLE-STRUCTURED-LOCATION;VALUE=URI;X-ADDRESS=Mount Barker Community Centre (Auchendarroch complex) 3 Dumas St Mount Barker South Australia 5251 Australia;X-APPLE-RADIUS=500;X-TITLE=3 Dumas St:geo:138.85524075886,-35.068749821661
END:VEVENT
BEGIN:VEVENT
DTSTART;TZID=Australia/Adelaide:20280203T130000
DTEND;TZID=Australia/Adelaide:20280203T143000
DTSTAMP:20260426T001927
CREATED:20250227T053142Z
LAST-MODIFIED:20251106T035704Z
UID:10000748-1833195600-1833201000@adelaidehillsdementia.org
SUMMARY:Strathalbyn Coffee Group
DESCRIPTION:
URL:https://adelaidehillsdementia.org/event/strathalbyn-coffee-group/2028-02-03/
LOCATION:Appleseed Cafe\, 30 high street\, Strathalbyn\, South Australia\, 5255\, Australia
ATTACH;FMTTYPE=image/jpeg:https://adelaidehillsdementia.org/wp-content/uploads/2024/12/Appleseed.jpg
ORGANIZER;CN="Vern Marshall":MAILTO:vern.c.marshall@gmail.com
GEO:-35.255210773981;138.89307976866
X-APPLE-STRUCTURED-LOCATION;VALUE=URI;X-ADDRESS=Appleseed Cafe 30 high street Strathalbyn South Australia 5255 Australia;X-APPLE-RADIUS=500;X-TITLE=30 high street:geo:138.89307976866,-35.255210773981
END:VEVENT
BEGIN:VEVENT
DTSTART;TZID=Australia/Adelaide:20280217T103000
DTEND;TZID=Australia/Adelaide:20280217T120000
DTSTAMP:20260426T001927
CREATED:20250207T012402Z
LAST-MODIFIED:20250207T012403Z
UID:10000465-1834396200-1834401600@adelaidehillsdementia.org
SUMMARY:Mount Barker Coffee Group
DESCRIPTION:
URL:https://adelaidehillsdementia.org/event/mount-barker-coffee-group/2028-02-17/
LOCATION:Mount Barker Community Centre (Auchendarroch complex)\, 3 Dumas St\, Mount Barker\, South Australia\, 5251\, Australia
ATTACH;FMTTYPE=image/jpeg:https://adelaidehillsdementia.org/wp-content/uploads/2024/12/Mount-Barker-Community-Centre.jpg
ORGANIZER;CN="Vern Marshall":MAILTO:vern.c.marshall@gmail.com
GEO:-35.068749821661;138.85524075886
X-APPLE-STRUCTURED-LOCATION;VALUE=URI;X-ADDRESS=Mount Barker Community Centre (Auchendarroch complex) 3 Dumas St Mount Barker South Australia 5251 Australia;X-APPLE-RADIUS=500;X-TITLE=3 Dumas St:geo:138.85524075886,-35.068749821661
END:VEVENT
BEGIN:VEVENT
DTSTART;TZID=Australia/Adelaide:20280302T130000
DTEND;TZID=Australia/Adelaide:20280302T143000
DTSTAMP:20260426T001927
CREATED:20250227T053142Z
LAST-MODIFIED:20251106T035704Z
UID:10000749-1835614800-1835620200@adelaidehillsdementia.org
SUMMARY:Strathalbyn Coffee Group
DESCRIPTION:
URL:https://adelaidehillsdementia.org/event/strathalbyn-coffee-group/2028-03-02/
LOCATION:Appleseed Cafe\, 30 high street\, Strathalbyn\, South Australia\, 5255\, Australia
ATTACH;FMTTYPE=image/jpeg:https://adelaidehillsdementia.org/wp-content/uploads/2024/12/Appleseed.jpg
ORGANIZER;CN="Vern Marshall":MAILTO:vern.c.marshall@gmail.com
GEO:-35.255210773981;138.89307976866
X-APPLE-STRUCTURED-LOCATION;VALUE=URI;X-ADDRESS=Appleseed Cafe 30 high street Strathalbyn South Australia 5255 Australia;X-APPLE-RADIUS=500;X-TITLE=30 high street:geo:138.89307976866,-35.255210773981
END:VEVENT
END:VCALENDAR